BEGIN:VCALENDAR
VERSION:2.0
PRODID:-//IMLA - ECPv6.15.20//NONSGML v1.0//EN
CALSCALE:GREGORIAN
METHOD:PUBLISH
X-WR-CALNAME:IMLA
X-ORIGINAL-URL:https://imla.org
X-WR-CALDESC:Events for IMLA
REFRESH-INTERVAL;VALUE=DURATION:PT1H
X-Robots-Tag:noindex
X-PUBLISHED-TTL:PT1H
BEGIN:VTIMEZONE
TZID:America/New_York
BEGIN:DAYLIGHT
TZOFFSETFROM:-0500
TZOFFSETTO:-0400
TZNAME:EDT
DTSTART:20160313T070000
END:DAYLIGHT
BEGIN:STANDARD
TZOFFSETFROM:-0400
TZOFFSETTO:-0500
TZNAME:EST
DTSTART:20161106T060000
END:STANDARD
BEGIN:DAYLIGHT
TZOFFSETFROM:-0500
TZOFFSETTO:-0400
TZNAME:EDT
DTSTART:20170312T070000
END:DAYLIGHT
BEGIN:STANDARD
TZOFFSETFROM:-0400
TZOFFSETTO:-0500
TZNAME:EST
DTSTART:20171105T060000
END:STANDARD
BEGIN:DAYLIGHT
TZOFFSETFROM:-0500
TZOFFSETTO:-0400
TZNAME:EDT
DTSTART:20180311T070000
END:DAYLIGHT
BEGIN:STANDARD
TZOFFSETFROM:-0400
TZOFFSETTO:-0500
TZNAME:EST
DTSTART:20181104T060000
END:STANDARD
END:VTIMEZONE
BEGIN:VEVENT
DTSTART;TZID=America/New_York:20170201T130000
DTEND;TZID=America/New_York:20170201T130000
DTSTAMP:20260421T192320
CREATED:20200302T092624Z
LAST-MODIFIED:20200302T092624Z
UID:10000811-1485954000-1485954000@imla.org
SUMMARY:New Government Lawyers Series  Parliamentary Procedure
DESCRIPTION:New Government Lawyers Series Parliamentary Procedure \nMunicipal and county governing boards are often populated with well-meaning public servants who have little or no understanding of parliamentary procedure. Consequently\, they may conduct their meetings informally\, applying procedural rules loosely and perhaps even inconsistently. This “down-home” approach might appear to work well when the board is dealing with noncontroversial matters. Yet when controversy arises – and it always does – the result can be multiple motions made in rapid succession and members who are confused about what they are being asked to vote on. In such situations\, the presiding officer is likely to seek the advice of counsel. This presentation will arm local government attorneys with basic principles of parliamentary procedure\, examine the legal sources of those principles\, and review common procedural problems. \nSpeakers: Norma Houston & Trey Allen \n2017 Distance Learning
URL:https://imla.org/events/new-government-lawyers-series-parliamentary-procedure/
CATEGORIES:Webinar
END:VEVENT
BEGIN:VEVENT
DTSTART;TZID=America/New_York:20170208T130000
DTEND;TZID=America/New_York:20170208T130000
DTSTAMP:20260421T192320
CREATED:20200302T092625Z
LAST-MODIFIED:20200302T092625Z
UID:10000812-1486558800-1486558800@imla.org
SUMMARY:Personnel
DESCRIPTION:Speakers: Roberta “Robin” Cross\n2017 Distance Learning
URL:https://imla.org/events/personnel/
CATEGORIES:Webinar
END:VEVENT
BEGIN:VEVENT
DTSTART;TZID=America/New_York:20170213T130000
DTEND;TZID=America/New_York:20170213T130000
DTSTAMP:20260421T192320
CREATED:20200302T092626Z
LAST-MODIFIED:20200302T092626Z
UID:10000813-1486990800-1486990800@imla.org
SUMMARY:Land Use
DESCRIPTION:2017 Distance Learning
URL:https://imla.org/events/land-use/
CATEGORIES:Webinar
END:VEVENT
BEGIN:VEVENT
DTSTART;TZID=America/New_York:20170222T130000
DTEND;TZID=America/New_York:20170222T130000
DTSTAMP:20260421T192320
CREATED:20200302T092626Z
LAST-MODIFIED:20200302T092626Z
UID:10000814-1487768400-1487768400@imla.org
SUMMARY:SMART- San Diego Misdemeanants At-Risk Track
DESCRIPTION:SMART- San Diego Misdemeanants At-Risk Track\nThe SMART pilot program is designed to address low-level misdemeanor offenders who repeatedly cycle through the criminal justice system committing drug and quality of life offenses. These repeat offenders often have no access to services\, coordination of care\, or meaningful incentives to engage with social service providers. The goal of the SMART program is to safely divert chronic misdemeanor offenders\, particularly those who are otherwise resistant to intervention\, to a case manager\, individualized treatment\, and tailored housing placement. It is a collaborative effort between the San Diego City Attorney’s Office\, the San Diego Police Department (SDPD)\, and the San Diego County Sheriff’s Office. \nSpeakers:  Lara Easton\, Chief Deputy City Attorney\, San Diego &Natasha Robertson\, Deputy City Attorney\, San Diego \n2017 Distance Learning
URL:https://imla.org/events/smart-san-diego-misdemeanants-at-risk-track/
CATEGORIES:Webinar
END:VEVENT
BEGIN:VEVENT
DTSTART;TZID=America/New_York:20170227T130000
DTEND;TZID=America/New_York:20170227T130000
DTSTAMP:20260421T192320
CREATED:20200302T092627Z
LAST-MODIFIED:20200302T092627Z
UID:10000815-1488200400-1488200400@imla.org
SUMMARY:Office Management
DESCRIPTION:Speaker: Foster Mills\n2017 Distance Learning
URL:https://imla.org/events/office-management/
CATEGORIES:Webinar
END:VEVENT
END:VCALENDAR