BEGIN:VCALENDAR
VERSION:2.0
PRODID:-//IMLA - ECPv6.15.20//NONSGML v1.0//EN
CALSCALE:GREGORIAN
METHOD:PUBLISH
X-WR-CALNAME:IMLA
X-ORIGINAL-URL:https://imla.org
X-WR-CALDESC:Events for IMLA
REFRESH-INTERVAL;VALUE=DURATION:PT1H
X-Robots-Tag:noindex
X-PUBLISHED-TTL:PT1H
BEGIN:VTIMEZONE
TZID:America/New_York
BEGIN:DAYLIGHT
TZOFFSETFROM:-0500
TZOFFSETTO:-0400
TZNAME:EDT
DTSTART:20160313T070000
END:DAYLIGHT
BEGIN:STANDARD
TZOFFSETFROM:-0400
TZOFFSETTO:-0500
TZNAME:EST
DTSTART:20161106T060000
END:STANDARD
BEGIN:DAYLIGHT
TZOFFSETFROM:-0500
TZOFFSETTO:-0400
TZNAME:EDT
DTSTART:20170312T070000
END:DAYLIGHT
BEGIN:STANDARD
TZOFFSETFROM:-0400
TZOFFSETTO:-0500
TZNAME:EST
DTSTART:20171105T060000
END:STANDARD
BEGIN:DAYLIGHT
TZOFFSETFROM:-0500
TZOFFSETTO:-0400
TZNAME:EDT
DTSTART:20180311T070000
END:DAYLIGHT
BEGIN:STANDARD
TZOFFSETFROM:-0400
TZOFFSETTO:-0500
TZNAME:EST
DTSTART:20181104T060000
END:STANDARD
BEGIN:DAYLIGHT
TZOFFSETFROM:-0500
TZOFFSETTO:-0400
TZNAME:EDT
DTSTART:20190310T070000
END:DAYLIGHT
BEGIN:STANDARD
TZOFFSETFROM:-0400
TZOFFSETTO:-0500
TZNAME:EST
DTSTART:20191103T060000
END:STANDARD
END:VTIMEZONE
BEGIN:VEVENT
DTSTART;TZID=America/New_York:20180726T140000
DTEND;TZID=America/New_York:20180726T150000
DTSTAMP:20260425T095156
CREATED:20200302T092715Z
LAST-MODIFIED:20200302T092715Z
UID:10000896-1532613600-1532617200@imla.org
SUMMARY:Small & Rural Communities Committee Conference Call
DESCRIPTION:You need to be logged in to view this content. Please Log In. Not a Member? Join Us
URL:https://imla.org/events/small-rural-communities-committee-conference-call/
CATEGORIES:IMLA Conference Call
END:VEVENT
BEGIN:VEVENT
DTSTART;TZID=America/New_York:20180724T130000
DTEND;TZID=America/New_York:20180724T140000
DTSTAMP:20260425T095156
CREATED:20200302T092649Z
LAST-MODIFIED:20200302T092649Z
UID:10000849-1532437200-1532440800@imla.org
SUMMARY:Marijuana Law Webinar
DESCRIPTION:You need to be logged in to view this content. Please Log In. Not a Member? Join Us
URL:https://imla.org/events/marijuana-law-webinar/
CATEGORIES:Webinar
END:VEVENT
BEGIN:VEVENT
DTSTART;TZID=America/New_York:20180719T130000
DTEND;TZID=America/New_York:20180719T140000
DTSTAMP:20260425T095156
CREATED:20200302T092649Z
LAST-MODIFIED:20200302T092649Z
UID:10000848-1532005200-1532008800@imla.org
SUMMARY:Police Webinar
DESCRIPTION:You need to be logged in to view this content. Please Log In. Not a Member? Join Us
URL:https://imla.org/events/police-webinar/
CATEGORIES:Webinar
END:VEVENT
BEGIN:VEVENT
DTSTART;TZID=America/New_York:20180719T130000
DTEND;TZID=America/New_York:20180719T130000
DTSTAMP:20260425T095156
CREATED:20200302T092721Z
LAST-MODIFIED:20200302T092721Z
UID:10000905-1532005200-1532005200@imla.org
SUMMARY:Sanctuary Jurisdiction Working Group Call
DESCRIPTION:You need to be logged in to view this content. Please Log In. Not a Member? Join Us
URL:https://imla.org/events/sanctuary-jurisdiction-working-group-call-2/
CATEGORIES:IMLA Conference Call
END:VEVENT
BEGIN:VEVENT
DTSTART;TZID=America/New_York:20180713T130000
DTEND;TZID=America/New_York:20180713T140000
DTSTAMP:20260425T095156
CREATED:20200302T092711Z
LAST-MODIFIED:20200302T092711Z
UID:10000875-1531486800-1531490400@imla.org
SUMMARY:Code Enforcement Conference Call
DESCRIPTION:You need to be logged in to view this content. Please Log In. Not a Member? Join Us
URL:https://imla.org/events/code-enforcement-conference-call/
CATEGORIES:IMLA Conference Call
END:VEVENT
BEGIN:VEVENT
DTSTART;TZID=America/New_York:20180712T130000
DTEND;TZID=America/New_York:20180712T140000
DTSTAMP:20260425T095156
CREATED:20200302T092648Z
LAST-MODIFIED:20200302T092648Z
UID:10000847-1531400400-1531404000@imla.org
SUMMARY:Personnel Webinar
DESCRIPTION:You need to be logged in to view this content. Please Log In. Not a Member? Join Us
URL:https://imla.org/events/personnel-webinar/
CATEGORIES:Webinar
END:VEVENT
BEGIN:VEVENT
DTSTART;TZID=America/New_York:20180711T130000
DTEND;TZID=America/New_York:20180711T140000
DTSTAMP:20260425T095156
CREATED:20200302T092707Z
LAST-MODIFIED:20200302T092707Z
UID:10000864-1531314000-1531317600@imla.org
SUMMARY:Litigation Section Conference Call
DESCRIPTION:You need to be logged in to view this content. Please Log In. Not a Member? Join Us
URL:https://imla.org/events/litigation-section-conference-call/
CATEGORIES:IMLA Conference Call
END:VEVENT
BEGIN:VEVENT
DTSTART;TZID=America/New_York:20180711T130000
DTEND;TZID=America/New_York:20180711T130000
DTSTAMP:20260425T095156
CREATED:20200302T092730Z
LAST-MODIFIED:20200302T092730Z
UID:10000920-1531314000-1531314000@imla.org
SUMMARY:CCDI Call
DESCRIPTION:You need to be logged in to view this content. Please Log In. Not a Member? Join Us
URL:https://imla.org/events/ccdi-call/
CATEGORIES:IMLA Conference Call
END:VEVENT
BEGIN:VEVENT
DTSTART;TZID=America/New_York:20180710T130000
DTEND;TZID=America/New_York:20180710T140000
DTSTAMP:20260425T095156
CREATED:20200302T092720Z
LAST-MODIFIED:20200302T092720Z
UID:10000902-1531227600-1531231200@imla.org
SUMMARY:Opioid Litigation Working Group Call
DESCRIPTION:You need to be logged in to view this content. Please Log In. Not a Member? Join Us
URL:https://imla.org/events/opioid-litigation-working-group-call-2/
CATEGORIES:IMLA Conference Call
END:VEVENT
BEGIN:VEVENT
DTSTART;TZID=America/New_York:20180710T130000
DTEND;TZID=America/New_York:20180710T140000
DTSTAMP:20260425T095156
CREATED:20200302T092647Z
LAST-MODIFIED:20200302T092647Z
UID:10000846-1531227600-1531231200@imla.org
SUMMARY:Land Use Webinar
DESCRIPTION:You need to be logged in to view this content. Please Log In. Not a Member? Join Us
URL:https://imla.org/events/land-use-webinar/
CATEGORIES:Webinar
END:VEVENT
BEGIN:VEVENT
DTSTART;TZID=America/New_York:20180709T130000
DTEND;TZID=America/New_York:20180709T130000
DTSTAMP:20260425T095156
CREATED:20200302T092734Z
LAST-MODIFIED:20200302T092734Z
UID:10000933-1531141200-1531141200@imla.org
SUMMARY:eDiscovery-Legal Hold Working Group Conference Call
DESCRIPTION:You need to be logged in to view this content. Please Log In. Not a Member? Join Us
URL:https://imla.org/events/ediscovery-legal-hold-working-group-conference-call/
CATEGORIES:IMLA Conference Call
END:VEVENT
BEGIN:VEVENT
DTSTART;TZID=America/New_York:20180705T130000
DTEND;TZID=America/New_York:20180705T130000
DTSTAMP:20260425T095156
CREATED:20200302T092720Z
LAST-MODIFIED:20200302T092720Z
UID:10000904-1530795600-1530795600@imla.org
SUMMARY:Sanctuary Jurisdiction Working Group Call
DESCRIPTION:You need to be logged in to view this content. Please Log In. Not a Member? Join Us
URL:https://imla.org/events/sanctuary-jurisdiction-working-group-call/
CATEGORIES:IMLA Conference Call
END:VEVENT
BEGIN:VEVENT
DTSTART;TZID=America/New_York:20180626T130000
DTEND;TZID=America/New_York:20180626T140000
DTSTAMP:20260425T095156
CREATED:20200302T092718Z
LAST-MODIFIED:20200302T092718Z
UID:10000901-1530018000-1530021600@imla.org
SUMMARY:Opioid Litigation Working Group Call
DESCRIPTION:You need to be logged in to view this content. Please Log In. Not a Member? Join Us
URL:https://imla.org/events/opioid-litigation-working-group-call/
CATEGORIES:IMLA Conference Call
END:VEVENT
BEGIN:VEVENT
DTSTART;TZID=America/New_York:20180420T104500
DTEND;TZID=America/New_York:20180420T114500
DTSTAMP:20260425T095156
CREATED:20200302T092705Z
LAST-MODIFIED:20200302T092705Z
UID:10000861-1524221100-1524224700@imla.org
SUMMARY:Qualified Immunity in section 1983 cases\, an overview of recent Supreme Court decisions and practical considerations for the government practitioner
DESCRIPTION:You need to be logged in to view this content. Please Log In. Not a Member? Join Us
URL:https://imla.org/events/qualified-immunity-in-section-1983-cases-an-overview-of-recent-supreme-court-decisions-and-practical-considerations-for-the-government-practitioner/
CATEGORIES:Section 1983
END:VEVENT
BEGIN:VEVENT
DTSTART;TZID=America/New_York:20180420T080000
DTEND;TZID=America/New_York:20180420T220000
DTSTAMP:20260425T095156
CREATED:20200302T092614Z
LAST-MODIFIED:20200302T092614Z
UID:10000788-1524211200-1524261600@imla.org
SUMMARY:2018 Mid-Year Seminar
DESCRIPTION:You need to be logged in to view this content. Please Log In. Not a Member? Join Us
URL:https://imla.org/events/2018-mid-year-seminar/
CATEGORIES:Seminar
END:VEVENT
BEGIN:VEVENT
DTSTART;TZID=America/New_York:20180312T130000
DTEND;TZID=America/New_York:20180312T140000
DTSTAMP:20260425T095156
CREATED:20200302T092646Z
LAST-MODIFIED:20200302T092646Z
UID:10000845-1520859600-1520863200@imla.org
SUMMARY:March 12- Telecommunications
DESCRIPTION:You need to be logged in to view this content. Please Log In. Not a Member? Join Us
URL:https://imla.org/events/march-12-telecommunications/
CATEGORIES:Webinar
END:VEVENT
BEGIN:VEVENT
DTSTART;TZID=America/New_York:20180308T130000
DTEND;TZID=America/New_York:20180308T140000
DTSTAMP:20260425T095156
CREATED:20200302T092646Z
LAST-MODIFIED:20200302T092646Z
UID:10000844-1520514000-1520517600@imla.org
SUMMARY:March 8- Land Use
DESCRIPTION:You need to be logged in to view this content. Please Log In. Not a Member? Join Us
URL:https://imla.org/events/march-8-land-use/
CATEGORIES:Webinar
END:VEVENT
BEGIN:VEVENT
DTSTART;TZID=America/New_York:20180227T130000
DTEND;TZID=America/New_York:20180227T140000
DTSTAMP:20260425T095156
CREATED:20200302T092646Z
LAST-MODIFIED:20200302T092646Z
UID:10000843-1519736400-1519740000@imla.org
SUMMARY:February 27- Ethics; New Government Lawyer Series
DESCRIPTION:You need to be logged in to view this content. Please Log In. Not a Member? Join Us
URL:https://imla.org/events/february-27-ethics-new-government-lawyer-series/
CATEGORIES:Webinar
END:VEVENT
BEGIN:VEVENT
DTSTART;TZID=America/New_York:20180222T130000
DTEND;TZID=America/New_York:20180222T140000
DTSTAMP:20260425T095156
CREATED:20200302T092645Z
LAST-MODIFIED:20200302T092645Z
UID:10000842-1519304400-1519308000@imla.org
SUMMARY:February 22- Arbitration
DESCRIPTION:You need to be logged in to view this content. Please Log In. Not a Member? Join Us
URL:https://imla.org/events/february-22-arbitration/
CATEGORIES:Webinar
END:VEVENT
BEGIN:VEVENT
DTSTART;TZID=America/New_York:20180220T130000
DTEND;TZID=America/New_York:20180220T140000
DTSTAMP:20260425T095156
CREATED:20200302T092644Z
LAST-MODIFIED:20200302T092644Z
UID:10000841-1519131600-1519135200@imla.org
SUMMARY:Feb 20- Public Works/ New Government Lawyer Series
DESCRIPTION:You need to be logged in to view this content. Please Log In. Not a Member? Join Us
URL:https://imla.org/events/feb-20-public-works-new-government-lawyer-series/
CATEGORIES:Webinar
END:VEVENT
BEGIN:VEVENT
DTSTART;TZID=America/New_York:20171014T080000
DTEND;TZID=America/New_York:20171014T080000
DTSTAMP:20260425T095156
CREATED:20200302T092614Z
LAST-MODIFIED:20200302T092614Z
UID:10000789-1507968000-1507968000@imla.org
SUMMARY:2017 Annual Conference
DESCRIPTION:You need to be logged in to view this content. Please Log In. Not a Member? Join Us
URL:https://imla.org/events/2017-annual-conference/
CATEGORIES:Conference
END:VEVENT
BEGIN:VEVENT
DTSTART;TZID=America/New_York:20170925T130000
DTEND;TZID=America/New_York:20170925T130000
DTSTAMP:20260425T095156
CREATED:20200302T092642Z
LAST-MODIFIED:20200302T092642Z
UID:10000837-1506344400-1506344400@imla.org
SUMMARY:Collaborative Courts and Alternative Sentencing
DESCRIPTION:You need to be logged in to view this content. Please Log In. Not a Member? Join Us
URL:https://imla.org/events/collaborative-courts-and-alternative-sentencing/
CATEGORIES:Webinar
END:VEVENT
BEGIN:VEVENT
DTSTART;TZID=America/New_York:20170920T130000
DTEND;TZID=America/New_York:20170920T130000
DTSTAMP:20260425T095156
CREATED:20200302T092640Z
LAST-MODIFIED:20200302T092640Z
UID:10000836-1505912400-1505912400@imla.org
SUMMARY:Cell Tower Zoning
DESCRIPTION:You need to be logged in to view this content. Please Log In. Not a Member? Join Us
URL:https://imla.org/events/cell-tower-zoning/
CATEGORIES:Webinar
END:VEVENT
BEGIN:VEVENT
DTSTART;TZID=America/New_York:20170918T130000
DTEND;TZID=America/New_York:20170918T130000
DTSTAMP:20260425T095156
CREATED:20200302T092640Z
LAST-MODIFIED:20200302T092640Z
UID:10000835-1505739600-1505739600@imla.org
SUMMARY:Ethics
DESCRIPTION:You need to be logged in to view this content. Please Log In. Not a Member? Join Us
URL:https://imla.org/events/ethics/
CATEGORIES:Webinar
END:VEVENT
BEGIN:VEVENT
DTSTART;TZID=America/New_York:20170906T130000
DTEND;TZID=America/New_York:20170906T130000
DTSTAMP:20260425T095156
CREATED:20200302T092640Z
LAST-MODIFIED:20200302T092640Z
UID:10000834-1504702800-1504702800@imla.org
SUMMARY:Police
DESCRIPTION:You need to be logged in to view this content. Please Log In. Not a Member? Join Us
URL:https://imla.org/events/police-3/
CATEGORIES:Webinar
END:VEVENT
BEGIN:VEVENT
DTSTART;TZID=America/New_York:20170823T130000
DTEND;TZID=America/New_York:20170823T130000
DTSTAMP:20260425T095156
CREATED:20200302T092643Z
LAST-MODIFIED:20200302T092643Z
UID:10000840-1503493200-1503493200@imla.org
SUMMARY:Municipal Finance: Recent Developments in Municipal Securities Law
DESCRIPTION:You need to be logged in to view this content. Please Log In. Not a Member? Join Us
URL:https://imla.org/events/municipal-finance-recent-developments-in-municipal-securities-law/
CATEGORIES:Webinar
END:VEVENT
BEGIN:VEVENT
DTSTART;TZID=America/New_York:20170816T130000
DTEND;TZID=America/New_York:20170816T130000
DTSTAMP:20260425T095156
CREATED:20200302T092636Z
LAST-MODIFIED:20200302T092636Z
UID:10000828-1502888400-1502888400@imla.org
SUMMARY:Police
DESCRIPTION:You need to be logged in to view this content. Please Log In. Not a Member? Join Us
URL:https://imla.org/events/police-2/
CATEGORIES:Webinar
END:VEVENT
BEGIN:VEVENT
DTSTART;TZID=America/New_York:20170724T000000
DTEND;TZID=America/New_York:20170724T000000
DTSTAMP:20260425T095156
CREATED:20200302T092639Z
LAST-MODIFIED:20200302T092639Z
UID:10000833-1500854400-1500854400@imla.org
SUMMARY:Municipal Bonds
DESCRIPTION:You need to be logged in to view this content. Please Log In. Not a Member? Join Us
URL:https://imla.org/events/municipal-bonds/
CATEGORIES:Webinar
END:VEVENT
BEGIN:VEVENT
DTSTART;TZID=America/New_York:20170719T130000
DTEND;TZID=America/New_York:20170719T130000
DTSTAMP:20260425T095156
CREATED:20200302T092639Z
LAST-MODIFIED:20200302T092639Z
UID:10000832-1500469200-1500469200@imla.org
SUMMARY:Selling Your City’s Cell Lease/Future Leasing Rights
DESCRIPTION:You need to be logged in to view this content. Please Log In. Not a Member? Join Us
URL:https://imla.org/events/selling-your-citys-cell-lease-future-leasing-rights/
CATEGORIES:Webinar
END:VEVENT
BEGIN:VEVENT
DTSTART;TZID=America/New_York:20170626T130000
DTEND;TZID=America/New_York:20170626T130000
DTSTAMP:20260425T095156
CREATED:20200302T092637Z
LAST-MODIFIED:20200302T092637Z
UID:10000831-1498482000-1498482000@imla.org
SUMMARY:Achieving Website Accessibility for Municipalities and Local Governments
DESCRIPTION:You need to be logged in to view this content. Please Log In. Not a Member? Join Us
URL:https://imla.org/events/achieving-website-accessibility-for-municipalities-and-local-governments/
CATEGORIES:Webinar
END:VEVENT
END:VCALENDAR