BEGIN:VCALENDAR
VERSION:2.0
PRODID:-//IMLA - ECPv6.15.20//NONSGML v1.0//EN
CALSCALE:GREGORIAN
METHOD:PUBLISH
X-ORIGINAL-URL:https://imla.org
X-WR-CALDESC:Events for IMLA
REFRESH-INTERVAL;VALUE=DURATION:PT1H
X-Robots-Tag:noindex
X-PUBLISHED-TTL:PT1H
BEGIN:VTIMEZONE
TZID:America/New_York
BEGIN:DAYLIGHT
TZOFFSETFROM:-0500
TZOFFSETTO:-0400
TZNAME:EDT
DTSTART:20250309T070000
END:DAYLIGHT
BEGIN:STANDARD
TZOFFSETFROM:-0400
TZOFFSETTO:-0500
TZNAME:EST
DTSTART:20251102T060000
END:STANDARD
BEGIN:DAYLIGHT
TZOFFSETFROM:-0500
TZOFFSETTO:-0400
TZNAME:EDT
DTSTART:20260308T070000
END:DAYLIGHT
BEGIN:STANDARD
TZOFFSETFROM:-0400
TZOFFSETTO:-0500
TZNAME:EST
DTSTART:20261101T060000
END:STANDARD
BEGIN:DAYLIGHT
TZOFFSETFROM:-0500
TZOFFSETTO:-0400
TZNAME:EDT
DTSTART:20270314T070000
END:DAYLIGHT
BEGIN:STANDARD
TZOFFSETFROM:-0400
TZOFFSETTO:-0500
TZNAME:EST
DTSTART:20271107T060000
END:STANDARD
END:VTIMEZONE
BEGIN:VEVENT
DTSTART;TZID=America/New_York:20260610T130000
DTEND;TZID=America/New_York:20260610T140000
DTSTAMP:20260425T080028
CREATED:20260330T154934Z
LAST-MODIFIED:20260424T153004Z
UID:10001757-1781096400-1781100000@imla.org
SUMMARY:Legal Writing/Technology Webinar – Free Live For IMLA Members
DESCRIPTION:Writing with AI\nCLE available to Kitchen Sink Subscribers and in some cases to others but fees may apply. \nThis workshop will focus on ways to skillfully (and responsibly) leverage artificial intelligence tools during the legal writing process. We’ll cover both risks to avoid as well as helpful strategies to explore. \nSpeaker: Patrick Barry
URL:https://imla.org/events/legal-writing-technology-webinar-6-10-26/
CATEGORIES:Webinar
END:VEVENT
BEGIN:VEVENT
DTSTART;TZID=America/New_York:20260723T130000
DTEND;TZID=America/New_York:20260723T140000
DTSTAMP:20260425T080028
CREATED:20260424T152704Z
LAST-MODIFIED:20260424T152704Z
UID:10001758-1784811600-1784815200@imla.org
SUMMARY:Land Use/STRs Webinar
DESCRIPTION:Short-Term Rentals in the Courts: What Local Governments Can (and Cannot) Do Across the Circuits\nShort-term rental regulation has rapidly evolved from a local zoning issue into a nationwide litigation battleground\, with federal and state courts increasingly defining the constitutional and statutory limits of municipal authority. This program takes a case-driven approach\, tracking how courts across multiple circuits are analyzing STR ordinances and what those decisions mean for local governments drafting or enforcing regulations. \nThis session synthesizes emerging doctrine across the country to identify consistent legal fault lines. It will examine how courts are applying traditional land-use principles to STRs\, including whether short-term rentals constitute “residential use” or constitute impermissible commercial activity. \nSpeaker: Hilary McMahon
URL:https://imla.org/events/land-use-strs-webinar-7-23-26/
CATEGORIES:Webinar
END:VEVENT
BEGIN:VEVENT
DTSTART;TZID=America/New_York:20260804T130000
DTEND;TZID=America/New_York:20260804T140000
DTSTAMP:20260425T080028
CREATED:20251120T212029Z
LAST-MODIFIED:20260112T171201Z
UID:10001745-1785848400-1785852000@imla.org
SUMMARY:Public Comment Webinar
DESCRIPTION:Public Comment: The Good\, The Bad\, And The Legal\nAs Leslie Knope (Amy Poehler) from the show Parks and Rec humorously stated: “What I hear when I’m being yelled at [during a public meeting] is people caring loudly at me.” This presentation will explore the benefits of public comment\, some of the issues commonly associated with public comment\, and what you can do to address those issues. \nThe webinar will provide local government attorneys with practical guidance on managing public comment in a manner that complies with the First Amendment\, open meetings laws\, and due process requirements. Topics will include permissible time\, place\, and manner restrictions\, viewpoint neutrality\, handling disruptive or abusive speakers\, and best practices for advising elected officials and staff in real time. \nSpeaker: Todd Sheeran & Neal Falgoust
URL:https://imla.org/events/public-comment-webinar-8-4-26/
CATEGORIES:Webinar
END:VEVENT
END:VCALENDAR