BEGIN:VCALENDAR
VERSION:2.0
PRODID:-//IMLA - ECPv6.15.20//NONSGML v1.0//EN
CALSCALE:GREGORIAN
METHOD:PUBLISH
X-ORIGINAL-URL:https://imla.org
X-WR-CALDESC:Events for IMLA
REFRESH-INTERVAL;VALUE=DURATION:PT1H
X-Robots-Tag:noindex
X-PUBLISHED-TTL:PT1H
BEGIN:VTIMEZONE
TZID:America/New_York
BEGIN:DAYLIGHT
TZOFFSETFROM:-0500
TZOFFSETTO:-0400
TZNAME:EDT
DTSTART:20240310T070000
END:DAYLIGHT
BEGIN:STANDARD
TZOFFSETFROM:-0400
TZOFFSETTO:-0500
TZNAME:EST
DTSTART:20241103T060000
END:STANDARD
BEGIN:DAYLIGHT
TZOFFSETFROM:-0500
TZOFFSETTO:-0400
TZNAME:EDT
DTSTART:20250309T070000
END:DAYLIGHT
BEGIN:STANDARD
TZOFFSETFROM:-0400
TZOFFSETTO:-0500
TZNAME:EST
DTSTART:20251102T060000
END:STANDARD
BEGIN:DAYLIGHT
TZOFFSETFROM:-0500
TZOFFSETTO:-0400
TZNAME:EDT
DTSTART:20260308T070000
END:DAYLIGHT
BEGIN:STANDARD
TZOFFSETFROM:-0400
TZOFFSETTO:-0500
TZNAME:EST
DTSTART:20261101T060000
END:STANDARD
END:VTIMEZONE
BEGIN:VEVENT
DTSTART;TZID=America/New_York:20250114T130000
DTEND;TZID=America/New_York:20250114T140000
DTSTAMP:20260423T101114
CREATED:20241101T202328Z
LAST-MODIFIED:20241211T174910Z
UID:10001560-1736859600-1736863200@imla.org
SUMMARY:Employment Webinar
DESCRIPTION:Keeping Pace with Employment Law\nNew employment laws and regulations as well as recent court decisions include everything from the Pregnancy Fairness Act and the EEOC’s regulations\, the Supreme Court’s recent expansion of what constitutes an adverse employment action\, and using AI in the workplace. If ensuring compliance with these developments is not enough\, the Equal Employment Opportunity Commission is preparing to implement a slew of worker-friendly priorities if a new administration does not get in the way. Address the significant labor and employment law developments that are\, and will be\, affecting your operations and the landscape of employment law. \nSpeaker: Jonathan Mook & Roberta “Robin” Cross
URL:https://imla.org/events/employment-webinar-1-24-25/
CATEGORIES:Webinar
END:VEVENT
END:VCALENDAR