BEGIN:VCALENDAR
VERSION:2.0
PRODID:-//IMLA - ECPv6.15.20//NONSGML v1.0//EN
CALSCALE:GREGORIAN
METHOD:PUBLISH
X-ORIGINAL-URL:https://imla.org
X-WR-CALDESC:Events for IMLA
REFRESH-INTERVAL;VALUE=DURATION:PT1H
X-Robots-Tag:noindex
X-PUBLISHED-TTL:PT1H
BEGIN:VTIMEZONE
TZID:America/New_York
BEGIN:DAYLIGHT
TZOFFSETFROM:-0500
TZOFFSETTO:-0400
TZNAME:EDT
DTSTART:20230312T070000
END:DAYLIGHT
BEGIN:STANDARD
TZOFFSETFROM:-0400
TZOFFSETTO:-0500
TZNAME:EST
DTSTART:20231105T060000
END:STANDARD
BEGIN:DAYLIGHT
TZOFFSETFROM:-0500
TZOFFSETTO:-0400
TZNAME:EDT
DTSTART:20240310T070000
END:DAYLIGHT
BEGIN:STANDARD
TZOFFSETFROM:-0400
TZOFFSETTO:-0500
TZNAME:EST
DTSTART:20241103T060000
END:STANDARD
BEGIN:DAYLIGHT
TZOFFSETFROM:-0500
TZOFFSETTO:-0400
TZNAME:EDT
DTSTART:20250309T070000
END:DAYLIGHT
BEGIN:STANDARD
TZOFFSETFROM:-0400
TZOFFSETTO:-0500
TZNAME:EST
DTSTART:20251102T060000
END:STANDARD
END:VTIMEZONE
BEGIN:VEVENT
DTSTART;TZID=America/New_York:20241212T130000
DTEND;TZID=America/New_York:20241212T140000
DTSTAMP:20260421T111404
CREATED:20241014T151719Z
LAST-MODIFIED:20241014T151803Z
UID:10001549-1734008400-1734012000@imla.org
SUMMARY:RLUIPA Webinar
DESCRIPTION:Religious Land Use and Institutionalized Persons Act\nThe presentation will focus on the nuts and bolts of RLUIPA\, including its prohibition on substantial burden\, unequal treatment\, discrimination\, unreasonably limiting or totally excluding religious exercise\, the definition of religious exercise\, the types of regulations covered by RLUIPA\, and other topics. Mr. Sacks will discuss real cases examples and his experiences with RLUIPA cases. Participants will be invited to ask questions at the end. \nSpeaker: Noah Sacks
URL:https://imla.org/events/rluipa-webinar-12-12-24/
CATEGORIES:Webinar
END:VEVENT
END:VCALENDAR