BEGIN:VCALENDAR
VERSION:2.0
PRODID:-//IMLA - ECPv6.15.20//NONSGML v1.0//EN
CALSCALE:GREGORIAN
METHOD:PUBLISH
X-WR-CALNAME:IMLA
X-ORIGINAL-URL:https://imla.org
X-WR-CALDESC:Events for IMLA
REFRESH-INTERVAL;VALUE=DURATION:PT1H
X-Robots-Tag:noindex
X-PUBLISHED-TTL:PT1H
BEGIN:VTIMEZONE
TZID:America/New_York
BEGIN:DAYLIGHT
TZOFFSETFROM:-0500
TZOFFSETTO:-0400
TZNAME:EDT
DTSTART:20230312T070000
END:DAYLIGHT
BEGIN:STANDARD
TZOFFSETFROM:-0400
TZOFFSETTO:-0500
TZNAME:EST
DTSTART:20231105T060000
END:STANDARD
BEGIN:DAYLIGHT
TZOFFSETFROM:-0500
TZOFFSETTO:-0400
TZNAME:EDT
DTSTART:20240310T070000
END:DAYLIGHT
BEGIN:STANDARD
TZOFFSETFROM:-0400
TZOFFSETTO:-0500
TZNAME:EST
DTSTART:20241103T060000
END:STANDARD
BEGIN:DAYLIGHT
TZOFFSETFROM:-0500
TZOFFSETTO:-0400
TZNAME:EDT
DTSTART:20250309T070000
END:DAYLIGHT
BEGIN:STANDARD
TZOFFSETFROM:-0400
TZOFFSETTO:-0500
TZNAME:EST
DTSTART:20251102T060000
END:STANDARD
END:VTIMEZONE
BEGIN:VEVENT
DTSTART;TZID=America/New_York:20241210T130000
DTEND;TZID=America/New_York:20241210T140000
DTSTAMP:20260421T111310
CREATED:20240820T192455Z
LAST-MODIFIED:20240820T192455Z
UID:10001542-1733835600-1733839200@imla.org
SUMMARY:Affordable Housing Webinar – Free Live For IMLA Members
DESCRIPTION:Creating Affordable Housing: Madison’s Experience\nCLE available to Kitchen Sink Subscribers and in some cases to others but fees may apply. \nCreating affordable housing is a major challenge for municipalities everywhere. In addition to the politics\, financing affordable housing deals requires combinations of lending programs and creative solutions to fill financing gaps. This presentation will discuss the problems in creating and financing affordable housing for families and students\, and methods the City of Madison\, Wisconsin has been using to solve these issues including tax incremental financing\, the creation of an affordable housing fund\, and permitting density in exchange for affordability. \nSpeaker: Kevin Ramakrishna
URL:https://imla.org/events/affordable-housing-webinar-12-10-24/
CATEGORIES:Webinar
END:VEVENT
END:VCALENDAR