BEGIN:VCALENDAR
VERSION:2.0
PRODID:-//IMLA - ECPv6.15.20//NONSGML v1.0//EN
CALSCALE:GREGORIAN
METHOD:PUBLISH
X-WR-CALNAME:IMLA
X-ORIGINAL-URL:https://imla.org
X-WR-CALDESC:Events for IMLA
REFRESH-INTERVAL;VALUE=DURATION:PT1H
X-Robots-Tag:noindex
X-PUBLISHED-TTL:PT1H
BEGIN:VTIMEZONE
TZID:America/New_York
BEGIN:DAYLIGHT
TZOFFSETFROM:-0500
TZOFFSETTO:-0400
TZNAME:EDT
DTSTART:20230312T070000
END:DAYLIGHT
BEGIN:STANDARD
TZOFFSETFROM:-0400
TZOFFSETTO:-0500
TZNAME:EST
DTSTART:20231105T060000
END:STANDARD
BEGIN:DAYLIGHT
TZOFFSETFROM:-0500
TZOFFSETTO:-0400
TZNAME:EDT
DTSTART:20240310T070000
END:DAYLIGHT
BEGIN:STANDARD
TZOFFSETFROM:-0400
TZOFFSETTO:-0500
TZNAME:EST
DTSTART:20241103T060000
END:STANDARD
BEGIN:DAYLIGHT
TZOFFSETFROM:-0500
TZOFFSETTO:-0400
TZNAME:EDT
DTSTART:20250309T070000
END:DAYLIGHT
BEGIN:STANDARD
TZOFFSETFROM:-0400
TZOFFSETTO:-0500
TZNAME:EST
DTSTART:20251102T060000
END:STANDARD
END:VTIMEZONE
BEGIN:VEVENT
DTSTART;TZID=America/New_York:20241205T130000
DTEND;TZID=America/New_York:20241205T140000
DTSTAMP:20260421T111310
CREATED:20241015T210838Z
LAST-MODIFIED:20241015T210838Z
UID:10001555-1733403600-1733407200@imla.org
SUMMARY:Trial Procedure Webinar
DESCRIPTION:An Overview of Voir Dire in a Criminal Trial: Tips To Overcome Some of The Challenges a Prosecutor Faces\nProsecutors typically handle a large jury trial docket\, with very little time to prepare for voir dire prior to trial. However\, voir dire is one of the most important parts of a criminal trial. This presentation will focus on a general overview of the process of voir dire in a criminal trial. It may touch upon some processes that are specific to a particular state\, but much of the overview and tips can apply across all jurisdictions. \nSpeaker: Robyn Katz
URL:https://imla.org/events/trial-procedure-webinar-12-5-24/
CATEGORIES:Webinar
END:VEVENT
END:VCALENDAR