BEGIN:VCALENDAR
VERSION:2.0
PRODID:-//IMLA - ECPv6.15.20//NONSGML v1.0//EN
CALSCALE:GREGORIAN
METHOD:PUBLISH
X-WR-CALNAME:IMLA
X-ORIGINAL-URL:https://imla.org
X-WR-CALDESC:Events for IMLA
REFRESH-INTERVAL;VALUE=DURATION:PT1H
X-Robots-Tag:noindex
X-PUBLISHED-TTL:PT1H
BEGIN:VTIMEZONE
TZID:America/New_York
BEGIN:DAYLIGHT
TZOFFSETFROM:-0500
TZOFFSETTO:-0400
TZNAME:EDT
DTSTART:20230312T070000
END:DAYLIGHT
BEGIN:STANDARD
TZOFFSETFROM:-0400
TZOFFSETTO:-0500
TZNAME:EST
DTSTART:20231105T060000
END:STANDARD
BEGIN:DAYLIGHT
TZOFFSETFROM:-0500
TZOFFSETTO:-0400
TZNAME:EDT
DTSTART:20240310T070000
END:DAYLIGHT
BEGIN:STANDARD
TZOFFSETFROM:-0400
TZOFFSETTO:-0500
TZNAME:EST
DTSTART:20241103T060000
END:STANDARD
BEGIN:DAYLIGHT
TZOFFSETFROM:-0500
TZOFFSETTO:-0400
TZNAME:EDT
DTSTART:20250309T070000
END:DAYLIGHT
BEGIN:STANDARD
TZOFFSETFROM:-0400
TZOFFSETTO:-0500
TZNAME:EST
DTSTART:20251102T060000
END:STANDARD
END:VTIMEZONE
BEGIN:VEVENT
DTSTART;TZID=America/New_York:20241204T130000
DTEND;TZID=America/New_York:20241204T140000
DTSTAMP:20260421T111253
CREATED:20241014T160634Z
LAST-MODIFIED:20241015T210937Z
UID:10001552-1733317200-1733320800@imla.org
SUMMARY:Ethics and AI for Local Government Webinar - Free Live
DESCRIPTION:Ethical Considerations for the Use of Gen AI in Municipal Practice\nSponsored by Thomson Reuters.\nCLE available to Kitchen Sink Subscribers and in some cases to others but fees may apply. \nJoin us for a virtual CLE course exploring the ethical considerations of generative artificial intelligence (AI) in the practice of law. In this course\, we will delve into the evolving role of AI in the legal landscape and explore practical applications for implementing AI responsibly. In addition\, this engaging session will cover the following key areas: \n\nFoundational understanding of Large Language Models (LLMs) and generative AI\nInherent risk within the use of generative AI\nUnderstanding appropriate times to deploy AI\, as well as situations where ethically\, AI requires supervision or may not be the ideal tool\nConsiderations of the use of generative AI regarding the ABA Model Rules\nThomson Reuters’ approach to artificial intelligence in the legal landscape\n\nSpeaker: Christie Weidemann\, Esq.
URL:https://imla.org/events/ethics-and-ai-for-local-government-webinar-12-4-24/
CATEGORIES:Webinar
END:VEVENT
END:VCALENDAR