BEGIN:VCALENDAR
VERSION:2.0
PRODID:-//IMLA - ECPv6.15.20//NONSGML v1.0//EN
CALSCALE:GREGORIAN
METHOD:PUBLISH
X-ORIGINAL-URL:https://imla.org
X-WR-CALDESC:Events for IMLA
REFRESH-INTERVAL;VALUE=DURATION:PT1H
X-Robots-Tag:noindex
X-PUBLISHED-TTL:PT1H
BEGIN:VTIMEZONE
TZID:America/New_York
BEGIN:DAYLIGHT
TZOFFSETFROM:-0500
TZOFFSETTO:-0400
TZNAME:EDT
DTSTART:20230312T070000
END:DAYLIGHT
BEGIN:STANDARD
TZOFFSETFROM:-0400
TZOFFSETTO:-0500
TZNAME:EST
DTSTART:20231105T060000
END:STANDARD
BEGIN:DAYLIGHT
TZOFFSETFROM:-0500
TZOFFSETTO:-0400
TZNAME:EDT
DTSTART:20240310T070000
END:DAYLIGHT
BEGIN:STANDARD
TZOFFSETFROM:-0400
TZOFFSETTO:-0500
TZNAME:EST
DTSTART:20241103T060000
END:STANDARD
BEGIN:DAYLIGHT
TZOFFSETFROM:-0500
TZOFFSETTO:-0400
TZNAME:EDT
DTSTART:20250309T070000
END:DAYLIGHT
BEGIN:STANDARD
TZOFFSETFROM:-0400
TZOFFSETTO:-0500
TZNAME:EST
DTSTART:20251102T060000
END:STANDARD
END:VTIMEZONE
BEGIN:VEVENT
DTSTART;TZID=America/New_York:20241114T130000
DTEND;TZID=America/New_York:20241114T140000
DTSTAMP:20260421T211306
CREATED:20240717T202113Z
LAST-MODIFIED:20240805T181531Z
UID:10001538-1731589200-1731592800@imla.org
SUMMARY:Cybersecurity Webinar – Free Live For IMLA Members
DESCRIPTION:Cybersecurity Essentials for City Attorneys: Protecting Your Municipality in the Digital Age\nCLE available to Kitchen Sink Subscribers and in some cases to others but fees may apply. \nJoin us for an in-depth look at the cybersecurity landscape facing municipalities today. This webinar will break down complex concepts into actionable insights\, covering everything from the basics of the “CIA Triad” to real-life case studies of cyber incidents in cities. Participants will gain a clear understanding of their role in mitigating cyber risks\, including legal and ethical considerations\, and practical steps to enhance their city’s cybersecurity posture. \nSpeaker: Ravinder Singh Arneja & Bryan Singh Arneja
URL:https://imla.org/events/cybersecurity-webinar-11-14-24/
CATEGORIES:Webinar
END:VEVENT
END:VCALENDAR