BEGIN:VCALENDAR
VERSION:2.0
PRODID:-//IMLA - ECPv6.15.20//NONSGML v1.0//EN
CALSCALE:GREGORIAN
METHOD:PUBLISH
X-ORIGINAL-URL:https://imla.org
X-WR-CALDESC:Events for IMLA
REFRESH-INTERVAL;VALUE=DURATION:PT1H
X-Robots-Tag:noindex
X-PUBLISHED-TTL:PT1H
BEGIN:VTIMEZONE
TZID:America/New_York
BEGIN:DAYLIGHT
TZOFFSETFROM:-0500
TZOFFSETTO:-0400
TZNAME:EDT
DTSTART:20230312T070000
END:DAYLIGHT
BEGIN:STANDARD
TZOFFSETFROM:-0400
TZOFFSETTO:-0500
TZNAME:EST
DTSTART:20231105T060000
END:STANDARD
BEGIN:DAYLIGHT
TZOFFSETFROM:-0500
TZOFFSETTO:-0400
TZNAME:EDT
DTSTART:20240310T070000
END:DAYLIGHT
BEGIN:STANDARD
TZOFFSETFROM:-0400
TZOFFSETTO:-0500
TZNAME:EST
DTSTART:20241103T060000
END:STANDARD
BEGIN:DAYLIGHT
TZOFFSETFROM:-0500
TZOFFSETTO:-0400
TZNAME:EDT
DTSTART:20250309T070000
END:DAYLIGHT
BEGIN:STANDARD
TZOFFSETFROM:-0400
TZOFFSETTO:-0500
TZNAME:EST
DTSTART:20251102T060000
END:STANDARD
END:VTIMEZONE
BEGIN:VEVENT
DTSTART;TZID=America/New_York:20241112T130000
DTEND;TZID=America/New_York:20241112T140000
DTSTAMP:20260421T211308
CREATED:20240805T172832Z
LAST-MODIFIED:20241031T152115Z
UID:10001539-1731416400-1731420000@imla.org
SUMMARY:Zoning Webinar – Free Live For IMLA Members
DESCRIPTION:Regulating Pickleball Noise: Legal Strategies to Avoid Controversy in City Hall and the Community\nCLE available to Kitchen Sink Subscribers and in some cases to others but fees may apply. \nToo often cities are becoming embroiled in raucous public meetings\, adverse publicity\, and lawsuits due to conflict between pickleball players and residential neighbors.  We will review the rapid growth and genuine benefits of pickleball as a recreation for your city.  We give a brief introduction to acoustic sciences and why this noise is different from tennis and genuinely annoying to the neighbors.  The shortfalls in the typical noise enforcement ordinances are explained\, as well as why pickleball noise is so difficult to quantify with a decibel meter.  We will review litigation examples around the county as municipalities defend themselves from poor planning choices.  We discuss the range of costly and difficult after-the-fact mitigation solutions such as noise barrier walls\, limiting hours of play\, and attempts to mandate quiet equipment.  We review some of the zoning\, planning and permitting ordinances adopted in recent years as cities learn to avoid a problem that is so difficult to correct once the mistake has been made. \nSpeaker: Charles Leahy\, Rob Mastroianni & Kathleen Romito
URL:https://imla.org/events/zoning-webinar-11-12-24/
CATEGORIES:Webinar
END:VEVENT
END:VCALENDAR