BEGIN:VCALENDAR
VERSION:2.0
PRODID:-//IMLA - ECPv6.15.20//NONSGML v1.0//EN
CALSCALE:GREGORIAN
METHOD:PUBLISH
X-ORIGINAL-URL:https://imla.org
X-WR-CALDESC:Events for IMLA
REFRESH-INTERVAL;VALUE=DURATION:PT1H
X-Robots-Tag:noindex
X-PUBLISHED-TTL:PT1H
BEGIN:VTIMEZONE
TZID:America/New_York
BEGIN:DAYLIGHT
TZOFFSETFROM:-0500
TZOFFSETTO:-0400
TZNAME:EDT
DTSTART:20230312T070000
END:DAYLIGHT
BEGIN:STANDARD
TZOFFSETFROM:-0400
TZOFFSETTO:-0500
TZNAME:EST
DTSTART:20231105T060000
END:STANDARD
BEGIN:DAYLIGHT
TZOFFSETFROM:-0500
TZOFFSETTO:-0400
TZNAME:EDT
DTSTART:20240310T070000
END:DAYLIGHT
BEGIN:STANDARD
TZOFFSETFROM:-0400
TZOFFSETTO:-0500
TZNAME:EST
DTSTART:20241103T060000
END:STANDARD
BEGIN:DAYLIGHT
TZOFFSETFROM:-0500
TZOFFSETTO:-0400
TZNAME:EDT
DTSTART:20250309T070000
END:DAYLIGHT
BEGIN:STANDARD
TZOFFSETFROM:-0400
TZOFFSETTO:-0500
TZNAME:EST
DTSTART:20251102T060000
END:STANDARD
END:VTIMEZONE
BEGIN:VEVENT
DTSTART;TZID=America/New_York:20241022T130000
DTEND;TZID=America/New_York:20241022T140000
DTSTAMP:20260422T034851
CREATED:20240906T172508Z
LAST-MODIFIED:20241010T174809Z
UID:10001544-1729602000-1729605600@imla.org
SUMMARY:Warrantless Searches Webinar
DESCRIPTION:Exceptions to the Fourth Amendment’s Warrant Requirement: Searches in Businesses and Schools\nThe Fourth Amendment generally requires law enforcement officials to obtain a warrant supported by probable cause before entering or searching a person’s private property. The Supreme Court has carved exceptions to this rule to allow warrantless searches in certain contexts\, including regulated businesses and schools. This presentation will discuss the evolving contours of the warrantless search doctrine and offer tips for government lawyers to keep their law enforcement clients on the correct side of the law. \nSpeaker: Brandon Moulard & Bennett Bryan
URL:https://imla.org/events/warrantless-searches-webinar-10-22-24/
CATEGORIES:Webinar
END:VEVENT
END:VCALENDAR