BEGIN:VCALENDAR
VERSION:2.0
PRODID:-//IMLA - ECPv6.15.20//NONSGML v1.0//EN
CALSCALE:GREGORIAN
METHOD:PUBLISH
X-WR-CALNAME:IMLA
X-ORIGINAL-URL:https://imla.org
X-WR-CALDESC:Events for IMLA
REFRESH-INTERVAL;VALUE=DURATION:PT1H
X-Robots-Tag:noindex
X-PUBLISHED-TTL:PT1H
BEGIN:VTIMEZONE
TZID:America/New_York
BEGIN:DAYLIGHT
TZOFFSETFROM:-0500
TZOFFSETTO:-0400
TZNAME:EDT
DTSTART:20230312T070000
END:DAYLIGHT
BEGIN:STANDARD
TZOFFSETFROM:-0400
TZOFFSETTO:-0500
TZNAME:EST
DTSTART:20231105T060000
END:STANDARD
BEGIN:DAYLIGHT
TZOFFSETFROM:-0500
TZOFFSETTO:-0400
TZNAME:EDT
DTSTART:20240310T070000
END:DAYLIGHT
BEGIN:STANDARD
TZOFFSETFROM:-0400
TZOFFSETTO:-0500
TZNAME:EST
DTSTART:20241103T060000
END:STANDARD
BEGIN:DAYLIGHT
TZOFFSETFROM:-0500
TZOFFSETTO:-0400
TZNAME:EDT
DTSTART:20250309T070000
END:DAYLIGHT
BEGIN:STANDARD
TZOFFSETFROM:-0400
TZOFFSETTO:-0500
TZNAME:EST
DTSTART:20251102T060000
END:STANDARD
END:VTIMEZONE
BEGIN:VEVENT
DTSTART;TZID=America/New_York:20240820T130000
DTEND;TZID=America/New_York:20240820T140000
DTSTAMP:20260422T155411
CREATED:20240703T150239Z
LAST-MODIFIED:20240703T150239Z
UID:10001536-1724158800-1724162400@imla.org
SUMMARY:Ethics Webinar
DESCRIPTION:AI: The Future of Humanity or the End of Civilization\nAI is more than a movie starring Haley Joel Osment from 2001\, it’s a force that has the potential to drastically change the practice of municipal law. This session would examine the various ways A.I. can impact attorneys representing local government. Or\, as AI put it: The presentation will explore how artificial intelligence (AI) is transforming the legal profession and the justice system\, by providing examples of current and emerging applications of AI in law\, as well as discussing the ethical\, legal\, and social implications of AI in law. \nSpeaker: Darren Shulman
URL:https://imla.org/events/ethics-webinar-8-20-24/
CATEGORIES:Webinar
END:VEVENT
END:VCALENDAR