BEGIN:VCALENDAR
VERSION:2.0
PRODID:-//IMLA - ECPv6.15.20//NONSGML v1.0//EN
CALSCALE:GREGORIAN
METHOD:PUBLISH
X-WR-CALNAME:IMLA
X-ORIGINAL-URL:https://imla.org
X-WR-CALDESC:Events for IMLA
REFRESH-INTERVAL;VALUE=DURATION:PT1H
X-Robots-Tag:noindex
X-PUBLISHED-TTL:PT1H
BEGIN:VTIMEZONE
TZID:America/New_York
BEGIN:DAYLIGHT
TZOFFSETFROM:-0500
TZOFFSETTO:-0400
TZNAME:EDT
DTSTART:20230312T070000
END:DAYLIGHT
BEGIN:STANDARD
TZOFFSETFROM:-0400
TZOFFSETTO:-0500
TZNAME:EST
DTSTART:20231105T060000
END:STANDARD
BEGIN:DAYLIGHT
TZOFFSETFROM:-0500
TZOFFSETTO:-0400
TZNAME:EDT
DTSTART:20240310T070000
END:DAYLIGHT
BEGIN:STANDARD
TZOFFSETFROM:-0400
TZOFFSETTO:-0500
TZNAME:EST
DTSTART:20241103T060000
END:STANDARD
BEGIN:DAYLIGHT
TZOFFSETFROM:-0500
TZOFFSETTO:-0400
TZNAME:EDT
DTSTART:20250309T070000
END:DAYLIGHT
BEGIN:STANDARD
TZOFFSETFROM:-0400
TZOFFSETTO:-0500
TZNAME:EST
DTSTART:20251102T060000
END:STANDARD
END:VTIMEZONE
BEGIN:VEVENT
DTSTART;TZID=America/New_York:20240806T130000
DTEND;TZID=America/New_York:20240806T140000
DTSTAMP:20260422T173037
CREATED:20240312T145413Z
LAST-MODIFIED:20240702T202225Z
UID:10001509-1722949200-1722952800@imla.org
SUMMARY:Diversity Webinar
DESCRIPTION:How to Advise Councilmembers Regarding DEI Initiatives (Even When They Are Against Them)\nJoin Jeannine Williams\, Chief Assistant City Attorney for St. Petersburg\, Florida\, for an insightful discussion on advising council members on Diversity\, Equity\, and Inclusion (DEI) initiatives. In this presentation\, Jeannine will delve into the principles of accountable government and share strategies for tailoring your advice to council members while maintaining objectivity. \nAttendees will also gain valuable insights into the various DEI initiatives successfully implemented by the City of St. Petersburg. These initiatives include conducting a structural racism study and a disparity study\, undertaking affordable housing projects\, and redeveloping the Historic Gas Plant District. \nDon’t miss this opportunity to learn from Jeannine’s expertise and learn how you can effectively guide your council members when implementing DEI initiatives within your community. \nSpeaker: Jeannine S. Williams
URL:https://imla.org/events/diversity-webinar8-6-24/
CATEGORIES:Webinar
END:VEVENT
END:VCALENDAR