BEGIN:VCALENDAR
VERSION:2.0
PRODID:-//IMLA - ECPv6.15.20//NONSGML v1.0//EN
CALSCALE:GREGORIAN
METHOD:PUBLISH
X-WR-CALNAME:IMLA
X-ORIGINAL-URL:https://imla.org
X-WR-CALDESC:Events for IMLA
REFRESH-INTERVAL;VALUE=DURATION:PT1H
X-Robots-Tag:noindex
X-PUBLISHED-TTL:PT1H
BEGIN:VTIMEZONE
TZID:America/New_York
BEGIN:DAYLIGHT
TZOFFSETFROM:-0500
TZOFFSETTO:-0400
TZNAME:EDT
DTSTART:20230312T070000
END:DAYLIGHT
BEGIN:STANDARD
TZOFFSETFROM:-0400
TZOFFSETTO:-0500
TZNAME:EST
DTSTART:20231105T060000
END:STANDARD
BEGIN:DAYLIGHT
TZOFFSETFROM:-0500
TZOFFSETTO:-0400
TZNAME:EDT
DTSTART:20240310T070000
END:DAYLIGHT
BEGIN:STANDARD
TZOFFSETFROM:-0400
TZOFFSETTO:-0500
TZNAME:EST
DTSTART:20241103T060000
END:STANDARD
BEGIN:DAYLIGHT
TZOFFSETFROM:-0500
TZOFFSETTO:-0400
TZNAME:EDT
DTSTART:20250309T070000
END:DAYLIGHT
BEGIN:STANDARD
TZOFFSETFROM:-0400
TZOFFSETTO:-0500
TZNAME:EST
DTSTART:20251102T060000
END:STANDARD
END:VTIMEZONE
BEGIN:VEVENT
DTSTART;TZID=America/New_York:20240801T130000
DTEND;TZID=America/New_York:20240801T140000
DTSTAMP:20260422T140357
CREATED:20240312T145020Z
LAST-MODIFIED:20240521T204130Z
UID:10001505-1722517200-1722520800@imla.org
SUMMARY:Environmental Webinar
DESCRIPTION:Water\, Water everywhere in a Municipality; US v. Sackett\, the Maui case and the EPA/ACOE WOTUS Rule\nJoin experienced environmental law practitioner Rich Glaze in this webinar as he explores the impacts of recent Supreme Court interpretations of what constitutes a “water of the United States\,” how the EPA/ACOE WOTUS rule reflects these rulings and how (or if) these rulings affect municipalities. \nSpeaker: Rich Glaze
URL:https://imla.org/events/environmental-webinar-7-25-24/
CATEGORIES:Webinar
END:VEVENT
END:VCALENDAR