BEGIN:VCALENDAR
VERSION:2.0
PRODID:-//IMLA - ECPv6.15.20//NONSGML v1.0//EN
CALSCALE:GREGORIAN
METHOD:PUBLISH
X-WR-CALNAME:IMLA
X-ORIGINAL-URL:https://imla.org
X-WR-CALDESC:Events for IMLA
REFRESH-INTERVAL;VALUE=DURATION:PT1H
X-Robots-Tag:noindex
X-PUBLISHED-TTL:PT1H
BEGIN:VTIMEZONE
TZID:America/New_York
BEGIN:DAYLIGHT
TZOFFSETFROM:-0500
TZOFFSETTO:-0400
TZNAME:EDT
DTSTART:20230312T070000
END:DAYLIGHT
BEGIN:STANDARD
TZOFFSETFROM:-0400
TZOFFSETTO:-0500
TZNAME:EST
DTSTART:20231105T060000
END:STANDARD
BEGIN:DAYLIGHT
TZOFFSETFROM:-0500
TZOFFSETTO:-0400
TZNAME:EDT
DTSTART:20240310T070000
END:DAYLIGHT
BEGIN:STANDARD
TZOFFSETFROM:-0400
TZOFFSETTO:-0500
TZNAME:EST
DTSTART:20241103T060000
END:STANDARD
BEGIN:DAYLIGHT
TZOFFSETFROM:-0500
TZOFFSETTO:-0400
TZNAME:EDT
DTSTART:20250309T070000
END:DAYLIGHT
BEGIN:STANDARD
TZOFFSETFROM:-0400
TZOFFSETTO:-0500
TZNAME:EST
DTSTART:20251102T060000
END:STANDARD
END:VTIMEZONE
BEGIN:VEVENT
DTSTART;TZID=America/New_York:20240627T130000
DTEND;TZID=America/New_York:20240627T140000
DTSTAMP:20260422T191405
CREATED:20240522T205432Z
LAST-MODIFIED:20240522T205432Z
UID:10001531-1719493200-1719496800@imla.org
SUMMARY:Short Term Rentals Webinar
DESCRIPTION:What Happens Next: Enforcing (And Litigating) Short-Term Rental Regulations\nThis webinar is a follow-up to a previous session on drafting enforceable short-term rental regulations. After the often rigorous procedure of adopting comprehensive short-term rental regulations\, navigating the new enforcement landscape – and any resulting legal challenges – presents a new set of difficulties\, particularly in light of the ever-changing nature of short-term rental operations and the continuing lack of definitive case law on key short-term rental issues. This presentation will discuss suggested approaches to enforcement\, including coordination with code enforcement and prosecutors; options for neutralizing threats of litigation; and strategies for responding to common claims raised in short-term rental litigation. \nSpeaker: Rachel Raggio
URL:https://imla.org/events/short-term-rentals-webinar-6-27-24/
CATEGORIES:Webinar
END:VEVENT
END:VCALENDAR