BEGIN:VCALENDAR
VERSION:2.0
PRODID:-//IMLA - ECPv6.15.20//NONSGML v1.0//EN
CALSCALE:GREGORIAN
METHOD:PUBLISH
X-WR-CALNAME:IMLA
X-ORIGINAL-URL:https://imla.org
X-WR-CALDESC:Events for IMLA
REFRESH-INTERVAL;VALUE=DURATION:PT1H
X-Robots-Tag:noindex
X-PUBLISHED-TTL:PT1H
BEGIN:VTIMEZONE
TZID:America/New_York
BEGIN:DAYLIGHT
TZOFFSETFROM:-0500
TZOFFSETTO:-0400
TZNAME:EDT
DTSTART:20230312T070000
END:DAYLIGHT
BEGIN:STANDARD
TZOFFSETFROM:-0400
TZOFFSETTO:-0500
TZNAME:EST
DTSTART:20231105T060000
END:STANDARD
BEGIN:DAYLIGHT
TZOFFSETFROM:-0500
TZOFFSETTO:-0400
TZNAME:EDT
DTSTART:20240310T070000
END:DAYLIGHT
BEGIN:STANDARD
TZOFFSETFROM:-0400
TZOFFSETTO:-0500
TZNAME:EST
DTSTART:20241103T060000
END:STANDARD
BEGIN:DAYLIGHT
TZOFFSETFROM:-0500
TZOFFSETTO:-0400
TZNAME:EDT
DTSTART:20250309T070000
END:DAYLIGHT
BEGIN:STANDARD
TZOFFSETFROM:-0400
TZOFFSETTO:-0500
TZNAME:EST
DTSTART:20251102T060000
END:STANDARD
END:VTIMEZONE
BEGIN:VEVENT
DTSTART;TZID=America/New_York:20240618T130000
DTEND;TZID=America/New_York:20240618T140000
DTSTAMP:20260422T191300
CREATED:20240119T163103Z
LAST-MODIFIED:20240521T203939Z
UID:10001491-1718715600-1718719200@imla.org
SUMMARY:Police Misconduct Webinar
DESCRIPTION:Navigating the Conflicts of Interest facing the Municipal Attorney Responsible for Police Misconduct Litigation\nIn cases involving alleged police misconduct\, civil suits seeking damages are usually brought against individual officers under Title 42\, United States Code\, section 1983\, though sometimes units of local government employing the officers are also named as defendants. The unit of government that employs the officer is usually obligated to provide a defense for the officer-defendant\, and to indemnify the officer for legal costs\, including the payment of judgments and settlements of actions arising from the scope of employment. Individual officers named as defendants accordingly are represented by attorneys whose fiduciary obligations run to the officer\, not the municipality or other governmental entity that employs the officer. These attorneys have an ethical obligation to keep evidence of their clients’ misconduct from their clients’ employers\, even if this leads to expensive settlements paid by the employer. Thus\, there is a serious potential conflict of interest between the interests of the individual officer named as a defendant that the officer’s employer\, raising important issues of both ethics and public policy. This presentation will outline those conflicts and suggest how they may be best navigated by municipal attorneys\, even when they must hire or supervise attorneys representing individual officers entitled to indemnity\, while also protecting the interests of their governmental client. \nSpeaker: Lawrence Rosenthal
URL:https://imla.org/events/police-misconduct-webinar-6-18-24/
CATEGORIES:Webinar
END:VEVENT
END:VCALENDAR