BEGIN:VCALENDAR
VERSION:2.0
PRODID:-//IMLA - ECPv6.15.20//NONSGML v1.0//EN
CALSCALE:GREGORIAN
METHOD:PUBLISH
X-WR-CALNAME:IMLA
X-ORIGINAL-URL:https://imla.org
X-WR-CALDESC:Events for IMLA
REFRESH-INTERVAL;VALUE=DURATION:PT1H
X-Robots-Tag:noindex
X-PUBLISHED-TTL:PT1H
BEGIN:VTIMEZONE
TZID:America/New_York
BEGIN:DAYLIGHT
TZOFFSETFROM:-0500
TZOFFSETTO:-0400
TZNAME:EDT
DTSTART:20230312T070000
END:DAYLIGHT
BEGIN:STANDARD
TZOFFSETFROM:-0400
TZOFFSETTO:-0500
TZNAME:EST
DTSTART:20231105T060000
END:STANDARD
BEGIN:DAYLIGHT
TZOFFSETFROM:-0500
TZOFFSETTO:-0400
TZNAME:EDT
DTSTART:20240310T070000
END:DAYLIGHT
BEGIN:STANDARD
TZOFFSETFROM:-0400
TZOFFSETTO:-0500
TZNAME:EST
DTSTART:20241103T060000
END:STANDARD
BEGIN:DAYLIGHT
TZOFFSETFROM:-0500
TZOFFSETTO:-0400
TZNAME:EDT
DTSTART:20250309T070000
END:DAYLIGHT
BEGIN:STANDARD
TZOFFSETFROM:-0400
TZOFFSETTO:-0500
TZNAME:EST
DTSTART:20251102T060000
END:STANDARD
END:VTIMEZONE
BEGIN:VEVENT
DTSTART;TZID=America/New_York:20240401T130000
DTEND;TZID=America/New_York:20240401T140000
DTSTAMP:20260423T074600
CREATED:20240119T162847Z
LAST-MODIFIED:20240201T164711Z
UID:10001490-1711976400-1711980000@imla.org
SUMMARY:Telecom Webinar
DESCRIPTION:Robocalls Update: Automated Calls by Cities and New FCC Rules\nIn December 2020\, the Federal Communications Commission (“FCC”) issued the Broadnet Order on Reconsideration holding that cities and their contractors who initiate automated phone calls and text messages (“robocalls”) are subject to the federal Telephone Consumer Protection Act of 1991 as well as associated FCC rules and orders. In July 2023\, the FCC updated its rules to require cities to comply with certain standards\, which previously only applied to telemarketers\, when making robocalls to residential lines for a non-commercial purpose. This webinar discusses the applicable federal laws governing robocalls\, practical considerations and best practices for cities when making robocalls to citizens\, and the impact of the new FCC rules to cities. \nSpeaker: David Johnson
URL:https://imla.org/events/telecom-webinar-4-1-24/
CATEGORIES:Webinar
END:VEVENT
END:VCALENDAR