BEGIN:VCALENDAR
VERSION:2.0
PRODID:-//IMLA - ECPv6.15.20//NONSGML v1.0//EN
CALSCALE:GREGORIAN
METHOD:PUBLISH
X-ORIGINAL-URL:https://imla.org
X-WR-CALDESC:Events for IMLA
REFRESH-INTERVAL;VALUE=DURATION:PT1H
X-Robots-Tag:noindex
X-PUBLISHED-TTL:PT1H
BEGIN:VTIMEZONE
TZID:America/New_York
BEGIN:DAYLIGHT
TZOFFSETFROM:-0500
TZOFFSETTO:-0400
TZNAME:EDT
DTSTART:20230312T070000
END:DAYLIGHT
BEGIN:STANDARD
TZOFFSETFROM:-0400
TZOFFSETTO:-0500
TZNAME:EST
DTSTART:20231105T060000
END:STANDARD
BEGIN:DAYLIGHT
TZOFFSETFROM:-0500
TZOFFSETTO:-0400
TZNAME:EDT
DTSTART:20240310T070000
END:DAYLIGHT
BEGIN:STANDARD
TZOFFSETFROM:-0400
TZOFFSETTO:-0500
TZNAME:EST
DTSTART:20241103T060000
END:STANDARD
BEGIN:DAYLIGHT
TZOFFSETFROM:-0500
TZOFFSETTO:-0400
TZNAME:EDT
DTSTART:20250309T070000
END:DAYLIGHT
BEGIN:STANDARD
TZOFFSETFROM:-0400
TZOFFSETTO:-0500
TZNAME:EST
DTSTART:20251102T060000
END:STANDARD
END:VTIMEZONE
BEGIN:VEVENT
DTSTART;TZID=America/New_York:20240326T130000
DTEND;TZID=America/New_York:20240326T140000
DTSTAMP:20260423T041520
CREATED:20240215T165437Z
LAST-MODIFIED:20240216T180532Z
UID:10001501-1711458000-1711461600@imla.org
SUMMARY:First Amendment Auditors Webinar - Free Live For IMLA Members
DESCRIPTION:Keeping Calm and Carrying On – What to Do When First Amendment Auditors Arrive in Town\nCLE available to Kitchen Sink Subscribers and in some cases to others but fees may apply. \nLocal government offices and agencies across the country are experiencing an ever-growing increase of First Amendment audits\, a phenomenon involving disruptive visitors entering public spaces armed with video cameras and an intent to provoke reactions from public employees.  This presentation discusses what First Amendment audits are\, the legal framework governing filming in public spaces\, and how local government agencies should prepare for and respond to First Amendment audits. \nSpeaker: Deborah J. Fox & Kristof D. Szoke
URL:https://imla.org/events/first-amendment-auditors-webinar-3-26-24/
CATEGORIES:Webinar
END:VEVENT
END:VCALENDAR