BEGIN:VCALENDAR
VERSION:2.0
PRODID:-//IMLA - ECPv6.15.20//NONSGML v1.0//EN
CALSCALE:GREGORIAN
METHOD:PUBLISH
X-ORIGINAL-URL:https://imla.org
X-WR-CALDESC:Events for IMLA
REFRESH-INTERVAL;VALUE=DURATION:PT1H
X-Robots-Tag:noindex
X-PUBLISHED-TTL:PT1H
BEGIN:VTIMEZONE
TZID:America/New_York
BEGIN:DAYLIGHT
TZOFFSETFROM:-0500
TZOFFSETTO:-0400
TZNAME:EDT
DTSTART:20230312T070000
END:DAYLIGHT
BEGIN:STANDARD
TZOFFSETFROM:-0400
TZOFFSETTO:-0500
TZNAME:EST
DTSTART:20231105T060000
END:STANDARD
BEGIN:DAYLIGHT
TZOFFSETFROM:-0500
TZOFFSETTO:-0400
TZNAME:EDT
DTSTART:20240310T070000
END:DAYLIGHT
BEGIN:STANDARD
TZOFFSETFROM:-0400
TZOFFSETTO:-0500
TZNAME:EST
DTSTART:20241103T060000
END:STANDARD
BEGIN:DAYLIGHT
TZOFFSETFROM:-0500
TZOFFSETTO:-0400
TZNAME:EDT
DTSTART:20250309T070000
END:DAYLIGHT
BEGIN:STANDARD
TZOFFSETFROM:-0400
TZOFFSETTO:-0500
TZNAME:EST
DTSTART:20251102T060000
END:STANDARD
END:VTIMEZONE
BEGIN:VEVENT
DTSTART;TZID=America/New_York:20240319T130000
DTEND;TZID=America/New_York:20240319T140000
DTSTAMP:20260423T074722
CREATED:20240206T170848Z
LAST-MODIFIED:20240206T194106Z
UID:10001500-1710853200-1710856800@imla.org
SUMMARY:Police Liability Webinar
DESCRIPTION:Hot Topics in Law Enforcement Liability under Sec.1983: What Every Municipal Lawyer Should Know\nWhether you are a defense lawyer or legal advisor\, this webinar will help you to stay current on recent developments in police liability under 42 U.S.C. § 1983. After a brief refresher on claims and defenses\, the program will turn to recent developments: consensus policies on use of force; chokeholds and neck restraints after George Floyd; de-escalation and use of force against emotionally disturbed subjects; the latest on shooting at vehicles and vehicular pursuits; best practices on the use of force during protests and demonstrations; restrictions on no-knock warrants after Breonna Taylor; and the duty to intervene to prevent the misconduct of others. The program will end with a discussion about reducing money damages in high profile cases with inflammatory facts. All this\, plus links to resources you can use in your practice. \nSpeaker: Wayne Beyer
URL:https://imla.org/events/police-liability-webinar-3-19-24/
CATEGORIES:Webinar
END:VEVENT
END:VCALENDAR