BEGIN:VCALENDAR
VERSION:2.0
PRODID:-//IMLA - ECPv6.15.20//NONSGML v1.0//EN
CALSCALE:GREGORIAN
METHOD:PUBLISH
X-WR-CALNAME:IMLA
X-ORIGINAL-URL:https://imla.org
X-WR-CALDESC:Events for IMLA
REFRESH-INTERVAL;VALUE=DURATION:PT1H
X-Robots-Tag:noindex
X-PUBLISHED-TTL:PT1H
BEGIN:VTIMEZONE
TZID:America/New_York
BEGIN:DAYLIGHT
TZOFFSETFROM:-0500
TZOFFSETTO:-0400
TZNAME:EDT
DTSTART:20230312T070000
END:DAYLIGHT
BEGIN:STANDARD
TZOFFSETFROM:-0400
TZOFFSETTO:-0500
TZNAME:EST
DTSTART:20231105T060000
END:STANDARD
BEGIN:DAYLIGHT
TZOFFSETFROM:-0500
TZOFFSETTO:-0400
TZNAME:EDT
DTSTART:20240310T070000
END:DAYLIGHT
BEGIN:STANDARD
TZOFFSETFROM:-0400
TZOFFSETTO:-0500
TZNAME:EST
DTSTART:20241103T060000
END:STANDARD
BEGIN:DAYLIGHT
TZOFFSETFROM:-0500
TZOFFSETTO:-0400
TZNAME:EDT
DTSTART:20250309T070000
END:DAYLIGHT
BEGIN:STANDARD
TZOFFSETFROM:-0400
TZOFFSETTO:-0500
TZNAME:EST
DTSTART:20251102T060000
END:STANDARD
END:VTIMEZONE
BEGIN:VEVENT
DTSTART;TZID=America/New_York:20240123T130000
DTEND;TZID=America/New_York:20240123T140000
DTSTAMP:20260423T074425
CREATED:20231130T152948Z
LAST-MODIFIED:20231130T212934Z
UID:10001487-1706014800-1706018400@imla.org
SUMMARY:Mental Health & Wellness Webinar - Free Live For IMLA Members
DESCRIPTION:Creating A Workplace Culture of Wellness and Inclusion \nCLE available to Kitchen Sink Subscribers and in some cases to others but fees may apply. \nThis webinar will cover strategies and insights for attorneys to create a culture of wellbeing in the workplace that is inclusive and psychologically safe for everyone. This includes acknowledging that different people have different needs and can be accomplished by encouraging collaboration\, safe and transparent communication\, setting clear expectations and being flexible about accommodations. The benefits are increased wellbeing\, higher productivity and less stress in the workplace. \nLearn more about how to facilitate this in your workplace including: \n\nThe benefits to diversity\, equity and inclusion.\nHow to align clear expectations to eliminate uncertainty.\nUsing feedback to create change.\nAccommodate those with seen and unseen disabilities.\n\nSpeaker: Diane O’Connell
URL:https://imla.org/events/mental-health-wellness-webinar-1-23-24/
CATEGORIES:Webinar
END:VEVENT
END:VCALENDAR