BEGIN:VCALENDAR
VERSION:2.0
PRODID:-//IMLA - ECPv6.15.20//NONSGML v1.0//EN
CALSCALE:GREGORIAN
METHOD:PUBLISH
X-ORIGINAL-URL:https://imla.org
X-WR-CALDESC:Events for IMLA
REFRESH-INTERVAL;VALUE=DURATION:PT1H
X-Robots-Tag:noindex
X-PUBLISHED-TTL:PT1H
BEGIN:VTIMEZONE
TZID:America/New_York
BEGIN:DAYLIGHT
TZOFFSETFROM:-0500
TZOFFSETTO:-0400
TZNAME:EDT
DTSTART:20220313T070000
END:DAYLIGHT
BEGIN:STANDARD
TZOFFSETFROM:-0400
TZOFFSETTO:-0500
TZNAME:EST
DTSTART:20221106T060000
END:STANDARD
BEGIN:DAYLIGHT
TZOFFSETFROM:-0500
TZOFFSETTO:-0400
TZNAME:EDT
DTSTART:20230312T070000
END:DAYLIGHT
BEGIN:STANDARD
TZOFFSETFROM:-0400
TZOFFSETTO:-0500
TZNAME:EST
DTSTART:20231105T060000
END:STANDARD
BEGIN:DAYLIGHT
TZOFFSETFROM:-0500
TZOFFSETTO:-0400
TZNAME:EDT
DTSTART:20240310T070000
END:DAYLIGHT
BEGIN:STANDARD
TZOFFSETFROM:-0400
TZOFFSETTO:-0500
TZNAME:EST
DTSTART:20241103T060000
END:STANDARD
END:VTIMEZONE
BEGIN:VEVENT
DTSTART;TZID=America/New_York:20231215T130000
DTEND;TZID=America/New_York:20231215T140000
DTSTAMP:20260423T092823
CREATED:20231016T143348Z
LAST-MODIFIED:20231213T152043Z
UID:10001468-1702645200-1702648800@imla.org
SUMMARY:First Amendment & Public Comment Webinar - Free Live For IMLA Members
DESCRIPTION:Public Comment – The Good\, The Bad\, and The Legal\nCLE available to Kitchen Sink Subscribers and in some cases to others but fees may apply. \nAs Leslie Knope (Amy Poehler) from the show Parks and Rec humorously stated: “What I hear when I’m being yelled at [during a public meeting] is people caring loudly at me.” This presentation will explore the benefits of public comment\, some of the issues commonly associated with public comment\, and what you can do to address those issues. \nSpeaker: Randall Van Vleck & Todd Sheeran
URL:https://imla.org/events/first-amendment-public-comment-webinar-12-15-23/
CATEGORIES:Webinar
END:VEVENT
END:VCALENDAR