BEGIN:VCALENDAR
VERSION:2.0
PRODID:-//IMLA - ECPv6.15.20//NONSGML v1.0//EN
CALSCALE:GREGORIAN
METHOD:PUBLISH
X-ORIGINAL-URL:https://imla.org
X-WR-CALDESC:Events for IMLA
REFRESH-INTERVAL;VALUE=DURATION:PT1H
X-Robots-Tag:noindex
X-PUBLISHED-TTL:PT1H
BEGIN:VTIMEZONE
TZID:America/New_York
BEGIN:DAYLIGHT
TZOFFSETFROM:-0500
TZOFFSETTO:-0400
TZNAME:EDT
DTSTART:20220313T070000
END:DAYLIGHT
BEGIN:STANDARD
TZOFFSETFROM:-0400
TZOFFSETTO:-0500
TZNAME:EST
DTSTART:20221106T060000
END:STANDARD
BEGIN:DAYLIGHT
TZOFFSETFROM:-0500
TZOFFSETTO:-0400
TZNAME:EDT
DTSTART:20230312T070000
END:DAYLIGHT
BEGIN:STANDARD
TZOFFSETFROM:-0400
TZOFFSETTO:-0500
TZNAME:EST
DTSTART:20231105T060000
END:STANDARD
BEGIN:DAYLIGHT
TZOFFSETFROM:-0500
TZOFFSETTO:-0400
TZNAME:EDT
DTSTART:20240310T070000
END:DAYLIGHT
BEGIN:STANDARD
TZOFFSETFROM:-0400
TZOFFSETTO:-0500
TZNAME:EST
DTSTART:20241103T060000
END:STANDARD
END:VTIMEZONE
BEGIN:VEVENT
DTSTART;TZID=America/New_York:20231214T130000
DTEND;TZID=America/New_York:20231214T140000
DTSTAMP:20260423T092824
CREATED:20230918T153324Z
LAST-MODIFIED:20231115T162753Z
UID:10001450-1702558800-1702562400@imla.org
SUMMARY:General Webinar
DESCRIPTION:Local Government Attorney Essentials\nLocal Government attorneys need to handle a wide variety of legal responsibilities\, some unique to local government. The number of issues and topics requiring legal proficiency can be overwhelming. This presentation will help city and county attorneys develop a plan for navigating their initiation into local government law. While this webinar is designed for attorneys who are new to local government\, experienced local government attorneys can also benefit from a review of the basics of municipal law. \nSpeaker: Roger Horner
URL:https://imla.org/events/general-webinar-12-14-23/
CATEGORIES:Webinar
END:VEVENT
END:VCALENDAR