BEGIN:VCALENDAR
VERSION:2.0
PRODID:-//IMLA - ECPv6.15.20//NONSGML v1.0//EN
CALSCALE:GREGORIAN
METHOD:PUBLISH
X-ORIGINAL-URL:https://imla.org
X-WR-CALDESC:Events for IMLA
REFRESH-INTERVAL;VALUE=DURATION:PT1H
X-Robots-Tag:noindex
X-PUBLISHED-TTL:PT1H
BEGIN:VTIMEZONE
TZID:America/New_York
BEGIN:DAYLIGHT
TZOFFSETFROM:-0500
TZOFFSETTO:-0400
TZNAME:EDT
DTSTART:20220313T070000
END:DAYLIGHT
BEGIN:STANDARD
TZOFFSETFROM:-0400
TZOFFSETTO:-0500
TZNAME:EST
DTSTART:20221106T060000
END:STANDARD
BEGIN:DAYLIGHT
TZOFFSETFROM:-0500
TZOFFSETTO:-0400
TZNAME:EDT
DTSTART:20230312T070000
END:DAYLIGHT
BEGIN:STANDARD
TZOFFSETFROM:-0400
TZOFFSETTO:-0500
TZNAME:EST
DTSTART:20231105T060000
END:STANDARD
BEGIN:DAYLIGHT
TZOFFSETFROM:-0500
TZOFFSETTO:-0400
TZNAME:EDT
DTSTART:20240310T070000
END:DAYLIGHT
BEGIN:STANDARD
TZOFFSETFROM:-0400
TZOFFSETTO:-0500
TZNAME:EST
DTSTART:20241103T060000
END:STANDARD
END:VTIMEZONE
BEGIN:VEVENT
DTSTART;TZID=America/New_York:20231208T130000
DTEND;TZID=America/New_York:20231208T140000
DTSTAMP:20260423T092831
CREATED:20231016T142813Z
LAST-MODIFIED:20231017T204436Z
UID:10001466-1702040400-1702044000@imla.org
SUMMARY:Ethics Webinar
DESCRIPTION:My Client\, My Enemy? Ethical Challenges When Representing Cities\nThis presentation will discuss ABA Rules 1.1\, 1.2\, 1.3 and 1.7 when discussing the challenges faced with representing cities. Rule 1.3 addresses organizations as clients\, and Comment 1 touches upon entities acting through their officers\, directors\, etc. Complexities arise when Rule 1.1 calls for competent representation and the need to abide by client decisions under Rule 1.2\, but individual city officers find themselves in positions contrary to the city they serve. Rule 1.7 provides guidance on Conflicts of Interest. Rule 1.3 requires lawyers dealing with a city’s officers to explain the nature of the relationship and address when interests diverge. This presentation will provide a variety of scenarios and pose hypothetical questions illustrating these points. \nSpeaker: Alan Bojorquez
URL:https://imla.org/events/ethics-webinar-12-8-23/
CATEGORIES:Webinar
END:VEVENT
END:VCALENDAR