BEGIN:VCALENDAR
VERSION:2.0
PRODID:-//IMLA - ECPv6.15.20//NONSGML v1.0//EN
CALSCALE:GREGORIAN
METHOD:PUBLISH
X-WR-CALNAME:IMLA
X-ORIGINAL-URL:https://imla.org
X-WR-CALDESC:Events for IMLA
REFRESH-INTERVAL;VALUE=DURATION:PT1H
X-Robots-Tag:noindex
X-PUBLISHED-TTL:PT1H
BEGIN:VTIMEZONE
TZID:America/New_York
BEGIN:DAYLIGHT
TZOFFSETFROM:-0500
TZOFFSETTO:-0400
TZNAME:EDT
DTSTART:20220313T070000
END:DAYLIGHT
BEGIN:STANDARD
TZOFFSETFROM:-0400
TZOFFSETTO:-0500
TZNAME:EST
DTSTART:20221106T060000
END:STANDARD
BEGIN:DAYLIGHT
TZOFFSETFROM:-0500
TZOFFSETTO:-0400
TZNAME:EDT
DTSTART:20230312T070000
END:DAYLIGHT
BEGIN:STANDARD
TZOFFSETFROM:-0400
TZOFFSETTO:-0500
TZNAME:EST
DTSTART:20231105T060000
END:STANDARD
BEGIN:DAYLIGHT
TZOFFSETFROM:-0500
TZOFFSETTO:-0400
TZNAME:EDT
DTSTART:20240310T070000
END:DAYLIGHT
BEGIN:STANDARD
TZOFFSETFROM:-0400
TZOFFSETTO:-0500
TZNAME:EST
DTSTART:20241103T060000
END:STANDARD
END:VTIMEZONE
BEGIN:VEVENT
DTSTART;TZID=America/New_York:20231130T130000
DTEND;TZID=America/New_York:20231130T140000
DTSTAMP:20260423T110327
CREATED:20230905T160406Z
LAST-MODIFIED:20230905T162007Z
UID:10001448-1701349200-1701352800@imla.org
SUMMARY:Negotiations Webinar
DESCRIPTION:The Three Barriers to Resolution\nHave you ever listened like a cow?  Predicted United Nations membership? Determined how to make an offer?  In this session you will learn how issues in understanding\, planning\, and executing negotiations creates barriers to reaching resolution.  Immediate Past Chair of the ABA Section of Dispute Resolution and University of North Dakota Law Dean Brian Pappas will provide the exercises and information that will give you new tools and ideas for making your next negotiation a success. \nSpeaker: Brian Pappas
URL:https://imla.org/events/negotiations-webinar-11-30-23/
CATEGORIES:Webinar
END:VEVENT
END:VCALENDAR