BEGIN:VCALENDAR
VERSION:2.0
PRODID:-//IMLA - ECPv6.15.20//NONSGML v1.0//EN
CALSCALE:GREGORIAN
METHOD:PUBLISH
X-ORIGINAL-URL:https://imla.org
X-WR-CALDESC:Events for IMLA
REFRESH-INTERVAL;VALUE=DURATION:PT1H
X-Robots-Tag:noindex
X-PUBLISHED-TTL:PT1H
BEGIN:VTIMEZONE
TZID:America/New_York
BEGIN:DAYLIGHT
TZOFFSETFROM:-0500
TZOFFSETTO:-0400
TZNAME:EDT
DTSTART:20220313T070000
END:DAYLIGHT
BEGIN:STANDARD
TZOFFSETFROM:-0400
TZOFFSETTO:-0500
TZNAME:EST
DTSTART:20221106T060000
END:STANDARD
BEGIN:DAYLIGHT
TZOFFSETFROM:-0500
TZOFFSETTO:-0400
TZNAME:EDT
DTSTART:20230312T070000
END:DAYLIGHT
BEGIN:STANDARD
TZOFFSETFROM:-0400
TZOFFSETTO:-0500
TZNAME:EST
DTSTART:20231105T060000
END:STANDARD
BEGIN:DAYLIGHT
TZOFFSETFROM:-0500
TZOFFSETTO:-0400
TZNAME:EDT
DTSTART:20240310T070000
END:DAYLIGHT
BEGIN:STANDARD
TZOFFSETFROM:-0400
TZOFFSETTO:-0500
TZNAME:EST
DTSTART:20241103T060000
END:STANDARD
END:VTIMEZONE
BEGIN:VEVENT
DTSTART;TZID=America/New_York:20231128T130000
DTEND;TZID=America/New_York:20231128T140000
DTSTAMP:20260423T092829
CREATED:20231018T143736Z
LAST-MODIFIED:20231019T185819Z
UID:10001470-1701176400-1701180000@imla.org
SUMMARY:DEI Webinar
DESCRIPTION:Governing with Diversity\, Equity and Inclusion as Fundamental Principles\nAddressing community issues such as lack of access to affordable housing and infrastructure\, economic and health disparities\, sustainability\, and systemic racism requires sound legal advice. Best practices include creating an environment where creative solutions to social issues are valued and respected and diversity\, equity\, and inclusion (DEI) are fundamental principles. This discussion will include DEI policies and state preemptions surrounding these policies\, including structural racism initiatives; anti-LGBTQ+ legislation; environmental\, social and governance limitations; and the resulting protests surrounding these issues. \nSpeaker: Jeannine S. Williams
URL:https://imla.org/events/dei-webinar-11-28-23/
CATEGORIES:Webinar
END:VEVENT
END:VCALENDAR