BEGIN:VCALENDAR
VERSION:2.0
PRODID:-//IMLA - ECPv6.15.20//NONSGML v1.0//EN
CALSCALE:GREGORIAN
METHOD:PUBLISH
X-ORIGINAL-URL:https://imla.org
X-WR-CALDESC:Events for IMLA
REFRESH-INTERVAL;VALUE=DURATION:PT1H
X-Robots-Tag:noindex
X-PUBLISHED-TTL:PT1H
BEGIN:VTIMEZONE
TZID:America/New_York
BEGIN:DAYLIGHT
TZOFFSETFROM:-0500
TZOFFSETTO:-0400
TZNAME:EDT
DTSTART:20220313T070000
END:DAYLIGHT
BEGIN:STANDARD
TZOFFSETFROM:-0400
TZOFFSETTO:-0500
TZNAME:EST
DTSTART:20221106T060000
END:STANDARD
BEGIN:DAYLIGHT
TZOFFSETFROM:-0500
TZOFFSETTO:-0400
TZNAME:EDT
DTSTART:20230312T070000
END:DAYLIGHT
BEGIN:STANDARD
TZOFFSETFROM:-0400
TZOFFSETTO:-0500
TZNAME:EST
DTSTART:20231105T060000
END:STANDARD
BEGIN:DAYLIGHT
TZOFFSETFROM:-0500
TZOFFSETTO:-0400
TZNAME:EDT
DTSTART:20240310T070000
END:DAYLIGHT
BEGIN:STANDARD
TZOFFSETFROM:-0400
TZOFFSETTO:-0500
TZNAME:EST
DTSTART:20241103T060000
END:STANDARD
END:VTIMEZONE
BEGIN:VEVENT
DTSTART;TZID=America/New_York:20231116T130000
DTEND;TZID=America/New_York:20231116T140000
DTSTAMP:20260423T110519
CREATED:20230918T153053Z
LAST-MODIFIED:20230918T181034Z
UID:10001449-1700139600-1700143200@imla.org
SUMMARY:Protests and First Amendment Webinar - Free Live For IMLA Members
DESCRIPTION:Protest and Demonstration Permits\nCLE available to Kitchen Sink Subscribers and in some cases to others but fees may apply. \nA presentation discussing key considerations for governmental entities creating regulations that require permits for public protests and demonstrations. The webinar will cover the First Amendment standards for prior restraints – including strict scrutiny\, intermediate scrutiny\, limiting the discretion of government officials\, justifications supporting the regulation\, narrowly tailoring the permit requirements\, content neutrality\, and permit conditions. \nSpeaker: Ian Williams
URL:https://imla.org/events/protests-and-first-amendment-webinar-11-16-23/
CATEGORIES:Webinar
END:VEVENT
END:VCALENDAR