BEGIN:VCALENDAR
VERSION:2.0
PRODID:-//IMLA - ECPv6.15.20//NONSGML v1.0//EN
CALSCALE:GREGORIAN
METHOD:PUBLISH
X-WR-CALNAME:IMLA
X-ORIGINAL-URL:https://imla.org
X-WR-CALDESC:Events for IMLA
REFRESH-INTERVAL;VALUE=DURATION:PT1H
X-Robots-Tag:noindex
X-PUBLISHED-TTL:PT1H
BEGIN:VTIMEZONE
TZID:America/New_York
BEGIN:DAYLIGHT
TZOFFSETFROM:-0500
TZOFFSETTO:-0400
TZNAME:EDT
DTSTART:20220313T070000
END:DAYLIGHT
BEGIN:STANDARD
TZOFFSETFROM:-0400
TZOFFSETTO:-0500
TZNAME:EST
DTSTART:20221106T060000
END:STANDARD
BEGIN:DAYLIGHT
TZOFFSETFROM:-0500
TZOFFSETTO:-0400
TZNAME:EDT
DTSTART:20230312T070000
END:DAYLIGHT
BEGIN:STANDARD
TZOFFSETFROM:-0400
TZOFFSETTO:-0500
TZNAME:EST
DTSTART:20231105T060000
END:STANDARD
BEGIN:DAYLIGHT
TZOFFSETFROM:-0500
TZOFFSETTO:-0400
TZNAME:EDT
DTSTART:20240310T070000
END:DAYLIGHT
BEGIN:STANDARD
TZOFFSETFROM:-0400
TZOFFSETTO:-0500
TZNAME:EST
DTSTART:20241103T060000
END:STANDARD
END:VTIMEZONE
BEGIN:VEVENT
DTSTART;TZID=America/New_York:20231102T130000
DTEND;TZID=America/New_York:20231102T140000
DTSTAMP:20260423T110432
CREATED:20230215T184028Z
LAST-MODIFIED:20230215T184028Z
UID:10001212-1698930000-1698933600@imla.org
SUMMARY:Land Use Webinar
DESCRIPTION:Drafting Short-Term Rental Regulations \nRegulating short-term rentals has become a significant issue for municipalities throughout the United States. In Texas\, traditional ordinances governing land use and zoning do not always provide adequate regulations to preserve the character of residential neighborhoods amid an influx of short-term rental uses. When trying to regulate these uses\, the priorities of local governments and residents have clashed with certain rights and interests of property owners and rental occupants. In the absence of definitive legislative or judicial guidance\, drafting short-term rental regulations becomes a balancing act. This presentation will discuss approaches to drafting short-term rental regulations that balance those competing concerns and solve problems instead of creating further issues. \nSpeaker: Rachel Raggio
URL:https://imla.org/events/land-use-webinar-11-2-23/
CATEGORIES:Webinar
END:VEVENT
END:VCALENDAR