BEGIN:VCALENDAR
VERSION:2.0
PRODID:-//IMLA - ECPv6.15.20//NONSGML v1.0//EN
CALSCALE:GREGORIAN
METHOD:PUBLISH
X-ORIGINAL-URL:https://imla.org
X-WR-CALDESC:Events for IMLA
REFRESH-INTERVAL;VALUE=DURATION:PT1H
X-Robots-Tag:noindex
X-PUBLISHED-TTL:PT1H
BEGIN:VTIMEZONE
TZID:America/New_York
BEGIN:DAYLIGHT
TZOFFSETFROM:-0500
TZOFFSETTO:-0400
TZNAME:EDT
DTSTART:20220313T070000
END:DAYLIGHT
BEGIN:STANDARD
TZOFFSETFROM:-0400
TZOFFSETTO:-0500
TZNAME:EST
DTSTART:20221106T060000
END:STANDARD
BEGIN:DAYLIGHT
TZOFFSETFROM:-0500
TZOFFSETTO:-0400
TZNAME:EDT
DTSTART:20230312T070000
END:DAYLIGHT
BEGIN:STANDARD
TZOFFSETFROM:-0400
TZOFFSETTO:-0500
TZNAME:EST
DTSTART:20231105T060000
END:STANDARD
BEGIN:DAYLIGHT
TZOFFSETFROM:-0500
TZOFFSETTO:-0400
TZNAME:EDT
DTSTART:20240310T070000
END:DAYLIGHT
BEGIN:STANDARD
TZOFFSETFROM:-0400
TZOFFSETTO:-0500
TZNAME:EST
DTSTART:20241103T060000
END:STANDARD
END:VTIMEZONE
BEGIN:VEVENT
DTSTART;TZID=America/New_York:20230905T130000
DTEND;TZID=America/New_York:20230905T140000
DTSTAMP:20260423T174851
CREATED:20230525T153553Z
LAST-MODIFIED:20230525T162522Z
UID:10001222-1693918800-1693922400@imla.org
SUMMARY:Environment Webinar - Free Live For IMLA Members
DESCRIPTION:Municipalities and the Environment: New challenges and opportunities  \nCLE available to Kitchen Sink Subscribers and in some cases to others but fees may apply. \nJoin experienced environmental law practitioner Rich Glaze in this webinar as he explores new challenges and opportunities for municipalities in environmental regulation\, including compliance under the Biden administration\, EPA Brownfield Grants\, and current legal issues surrounding PFAS and emerging contaminants in areas such as airports\, wastewater treatment\, and drinking water. Rich’s extensive experience in defending companies\, municipalities\, and individuals in environmental law matters makes this webinar a valuable resource for attorneys that practice municipal law. \nSpeaker: Rich Glaze
URL:https://imla.org/events/environment-webinar-9-5-23/
CATEGORIES:Webinar
END:VEVENT
END:VCALENDAR