BEGIN:VCALENDAR
VERSION:2.0
PRODID:-//IMLA - ECPv6.15.20//NONSGML v1.0//EN
CALSCALE:GREGORIAN
METHOD:PUBLISH
X-WR-CALNAME:IMLA
X-ORIGINAL-URL:https://imla.org
X-WR-CALDESC:Events for IMLA
REFRESH-INTERVAL;VALUE=DURATION:PT1H
X-Robots-Tag:noindex
X-PUBLISHED-TTL:PT1H
BEGIN:VTIMEZONE
TZID:America/New_York
BEGIN:DAYLIGHT
TZOFFSETFROM:-0500
TZOFFSETTO:-0400
TZNAME:EDT
DTSTART:20220313T070000
END:DAYLIGHT
BEGIN:STANDARD
TZOFFSETFROM:-0400
TZOFFSETTO:-0500
TZNAME:EST
DTSTART:20221106T060000
END:STANDARD
BEGIN:DAYLIGHT
TZOFFSETFROM:-0500
TZOFFSETTO:-0400
TZNAME:EDT
DTSTART:20230312T070000
END:DAYLIGHT
BEGIN:STANDARD
TZOFFSETFROM:-0400
TZOFFSETTO:-0500
TZNAME:EST
DTSTART:20231105T060000
END:STANDARD
BEGIN:DAYLIGHT
TZOFFSETFROM:-0500
TZOFFSETTO:-0400
TZNAME:EDT
DTSTART:20240310T070000
END:DAYLIGHT
BEGIN:STANDARD
TZOFFSETFROM:-0400
TZOFFSETTO:-0500
TZNAME:EST
DTSTART:20241103T060000
END:STANDARD
END:VTIMEZONE
BEGIN:VEVENT
DTSTART;TZID=America/New_York:20230822T130000
DTEND;TZID=America/New_York:20230822T140000
DTSTAMP:20260423T192002
CREATED:20230626T143303Z
LAST-MODIFIED:20230626T143435Z
UID:10001226-1692709200-1692712800@imla.org
SUMMARY:Employment Law Webinar - Free Live For IMLA Members
DESCRIPTION:Proper Classification of Workers – Avoiding Potential Pitfalls in a Tight Labor Market\nCLE available to Kitchen Sink Subscribers and in some cases to others but fees may apply. \nWith the ongoing labor shortage\, businesses may be tempted to explore alternative worker arrangements\, such as engaging independent contractors. This session will cover the complex landscape of worker classification rules at the state\, federal\, and local levels. Gain valuable insights from recent litigation\, specifically examining how these rules are affected during changes in administration. \nSpeaker: Trina Chernos
URL:https://imla.org/events/employment-law-webinar-8-22-23/
CATEGORIES:Webinar
END:VEVENT
END:VCALENDAR