BEGIN:VCALENDAR
VERSION:2.0
PRODID:-//IMLA - ECPv6.15.20//NONSGML v1.0//EN
CALSCALE:GREGORIAN
METHOD:PUBLISH
X-WR-CALNAME:IMLA
X-ORIGINAL-URL:https://imla.org
X-WR-CALDESC:Events for IMLA
REFRESH-INTERVAL;VALUE=DURATION:PT1H
X-Robots-Tag:noindex
X-PUBLISHED-TTL:PT1H
BEGIN:VTIMEZONE
TZID:America/New_York
BEGIN:DAYLIGHT
TZOFFSETFROM:-0500
TZOFFSETTO:-0400
TZNAME:EDT
DTSTART:20220313T070000
END:DAYLIGHT
BEGIN:STANDARD
TZOFFSETFROM:-0400
TZOFFSETTO:-0500
TZNAME:EST
DTSTART:20221106T060000
END:STANDARD
BEGIN:DAYLIGHT
TZOFFSETFROM:-0500
TZOFFSETTO:-0400
TZNAME:EDT
DTSTART:20230312T070000
END:DAYLIGHT
BEGIN:STANDARD
TZOFFSETFROM:-0400
TZOFFSETTO:-0500
TZNAME:EST
DTSTART:20231105T060000
END:STANDARD
BEGIN:DAYLIGHT
TZOFFSETFROM:-0500
TZOFFSETTO:-0400
TZNAME:EDT
DTSTART:20240310T070000
END:DAYLIGHT
BEGIN:STANDARD
TZOFFSETFROM:-0400
TZOFFSETTO:-0500
TZNAME:EST
DTSTART:20241103T060000
END:STANDARD
END:VTIMEZONE
BEGIN:VEVENT
DTSTART;TZID=America/New_York:20230817T130000
DTEND;TZID=America/New_York:20230817T140000
DTSTAMP:20260423T174514
CREATED:20230711T151438Z
LAST-MODIFIED:20230714T210711Z
UID:10001234-1692277200-1692280800@imla.org
SUMMARY:Code Enforcement Webinar
DESCRIPTION:Creating More Livable Communities with Form-Based Codes\nUnderstanding form-based codes is important for lawyers involved in land development as they offer a tool for achieving urban planning goals and creating more livable communities. This presentation will discuss the use of form-based codes in regulating land development to achieve a specific urban form. The webinar will also discuss how these codes prioritize physical form over land use\, promoting predictable built results and a high-quality public realm through municipal regulations using examples of form-based code such as Miami 21 to illustrate the effectiveness of form-based codes along with other topics to be discussed. \nSpeaker: Chad Friedman
URL:https://imla.org/events/code-enforcement-webinar-8-17-23/
CATEGORIES:Webinar
END:VEVENT
END:VCALENDAR