BEGIN:VCALENDAR
VERSION:2.0
PRODID:-//IMLA - ECPv6.15.20//NONSGML v1.0//EN
CALSCALE:GREGORIAN
METHOD:PUBLISH
X-WR-CALNAME:IMLA
X-ORIGINAL-URL:https://imla.org
X-WR-CALDESC:Events for IMLA
REFRESH-INTERVAL;VALUE=DURATION:PT1H
X-Robots-Tag:noindex
X-PUBLISHED-TTL:PT1H
BEGIN:VTIMEZONE
TZID:America/New_York
BEGIN:DAYLIGHT
TZOFFSETFROM:-0500
TZOFFSETTO:-0400
TZNAME:EDT
DTSTART:20220313T070000
END:DAYLIGHT
BEGIN:STANDARD
TZOFFSETFROM:-0400
TZOFFSETTO:-0500
TZNAME:EST
DTSTART:20221106T060000
END:STANDARD
BEGIN:DAYLIGHT
TZOFFSETFROM:-0500
TZOFFSETTO:-0400
TZNAME:EDT
DTSTART:20230312T070000
END:DAYLIGHT
BEGIN:STANDARD
TZOFFSETFROM:-0400
TZOFFSETTO:-0500
TZNAME:EST
DTSTART:20231105T060000
END:STANDARD
BEGIN:DAYLIGHT
TZOFFSETFROM:-0500
TZOFFSETTO:-0400
TZNAME:EDT
DTSTART:20240310T070000
END:DAYLIGHT
BEGIN:STANDARD
TZOFFSETFROM:-0400
TZOFFSETTO:-0500
TZNAME:EST
DTSTART:20241103T060000
END:STANDARD
END:VTIMEZONE
BEGIN:VEVENT
DTSTART;TZID=America/New_York:20230815T130000
DTEND;TZID=America/New_York:20230815T140000
DTSTAMP:20260423T174601
CREATED:20230504T155737Z
LAST-MODIFIED:20230522T155131Z
UID:10001419-1692104400-1692108000@imla.org
SUMMARY:Animal Law Webinar - Free Live For IMLA Members
DESCRIPTION:Best Practices for City Ordinances Related to Animals\nCLE available to Kitchen Sink Subscribers and in some cases to others but fees may apply. \nThe presentation will provide sound and up-to-date guidance on ensuring that animal-related ordinances are in line with current case law. The presentation will assist cities and counties in preparing their respective animal-related ordinances before legal action occurs. The presentation will provide basic ordinance guidelines and tips\, as well as more specific guidance on ordinances related to dangerous dog determinations\, aggressive animals\, ownership\, leash laws\, and tethering. Several of the examples in the presentation will be related to Texas\, however the presentation generally applies across all jurisdictions\, based upon specific case law respective to each. \nSpeaker: Robyn Katz
URL:https://imla.org/events/animal-law-webinar-8-15-23/
CATEGORIES:Webinar
END:VEVENT
END:VCALENDAR