BEGIN:VCALENDAR
VERSION:2.0
PRODID:-//IMLA - ECPv6.15.20//NONSGML v1.0//EN
CALSCALE:GREGORIAN
METHOD:PUBLISH
X-WR-CALNAME:IMLA
X-ORIGINAL-URL:https://imla.org
X-WR-CALDESC:Events for IMLA
REFRESH-INTERVAL;VALUE=DURATION:PT1H
X-Robots-Tag:noindex
X-PUBLISHED-TTL:PT1H
BEGIN:VTIMEZONE
TZID:America/New_York
BEGIN:DAYLIGHT
TZOFFSETFROM:-0500
TZOFFSETTO:-0400
TZNAME:EDT
DTSTART:20220313T070000
END:DAYLIGHT
BEGIN:STANDARD
TZOFFSETFROM:-0400
TZOFFSETTO:-0500
TZNAME:EST
DTSTART:20221106T060000
END:STANDARD
BEGIN:DAYLIGHT
TZOFFSETFROM:-0500
TZOFFSETTO:-0400
TZNAME:EDT
DTSTART:20230312T070000
END:DAYLIGHT
BEGIN:STANDARD
TZOFFSETFROM:-0400
TZOFFSETTO:-0500
TZNAME:EST
DTSTART:20231105T060000
END:STANDARD
BEGIN:DAYLIGHT
TZOFFSETFROM:-0500
TZOFFSETTO:-0400
TZNAME:EDT
DTSTART:20240310T070000
END:DAYLIGHT
BEGIN:STANDARD
TZOFFSETFROM:-0400
TZOFFSETTO:-0500
TZNAME:EST
DTSTART:20241103T060000
END:STANDARD
END:VTIMEZONE
BEGIN:VEVENT
DTSTART;TZID=America/New_York:20230808T130000
DTEND;TZID=America/New_York:20230808T140000
DTSTAMP:20260423T192001
CREATED:20230626T143628Z
LAST-MODIFIED:20230626T144053Z
UID:10001227-1691499600-1691503200@imla.org
SUMMARY:Police Webinar - Free Live For IMLA Members
DESCRIPTION:Why Didn’t They Just Shoot The Gun Out of His Hand? Defending Police Uses of Force in The Era of BWC & Cell Phone Videos\nCLE available to Kitchen Sink Subscribers and in some cases to others but fees may apply. \nIn popular culture\, fictionalized versions of police encounters often depict officers flawlessly shooting a gun out of a suspect’s hand. However\, it is crucial to address the unrealistic nature of such scenarios in real-life law enforcement. This webinar aims to shed light on key topics\, including the impact of life-and-death situational stress\, the training officers receive\, and the limitations of video evidence captured by body-worn cameras (BWC) and cell phones. By understanding these critical aspects\, municipal attorneys can effectively convey accurate and informed messages to jurors\, judges\, insurance adjusters\, and the general public. \nSpeaker: Beth Mohr
URL:https://imla.org/events/police-webinar-8-8-23/
CATEGORIES:Webinar
END:VEVENT
END:VCALENDAR