BEGIN:VCALENDAR
VERSION:2.0
PRODID:-//IMLA - ECPv6.15.20//NONSGML v1.0//EN
CALSCALE:GREGORIAN
METHOD:PUBLISH
X-WR-CALNAME:IMLA
X-ORIGINAL-URL:https://imla.org
X-WR-CALDESC:Events for IMLA
REFRESH-INTERVAL;VALUE=DURATION:PT1H
X-Robots-Tag:noindex
X-PUBLISHED-TTL:PT1H
BEGIN:VTIMEZONE
TZID:America/New_York
BEGIN:DAYLIGHT
TZOFFSETFROM:-0500
TZOFFSETTO:-0400
TZNAME:EDT
DTSTART:20220313T070000
END:DAYLIGHT
BEGIN:STANDARD
TZOFFSETFROM:-0400
TZOFFSETTO:-0500
TZNAME:EST
DTSTART:20221106T060000
END:STANDARD
BEGIN:DAYLIGHT
TZOFFSETFROM:-0500
TZOFFSETTO:-0400
TZNAME:EDT
DTSTART:20230312T070000
END:DAYLIGHT
BEGIN:STANDARD
TZOFFSETFROM:-0400
TZOFFSETTO:-0500
TZNAME:EST
DTSTART:20231105T060000
END:STANDARD
BEGIN:DAYLIGHT
TZOFFSETFROM:-0500
TZOFFSETTO:-0400
TZNAME:EDT
DTSTART:20240310T070000
END:DAYLIGHT
BEGIN:STANDARD
TZOFFSETFROM:-0400
TZOFFSETTO:-0500
TZNAME:EST
DTSTART:20241103T060000
END:STANDARD
END:VTIMEZONE
BEGIN:VEVENT
DTSTART;TZID=America/New_York:20230629T130000
DTEND;TZID=America/New_York:20230629T140000
DTSTAMP:20260423T192000
CREATED:20230131T191844Z
LAST-MODIFIED:20230613T142942Z
UID:10001210-1688043600-1688047200@imla.org
SUMMARY:Code Enforcement Webinar
DESCRIPTION:Regulating Short-Term Rentals\nWhere we’ve been and where we can go. This presentation will discuss lessons learned and recent trends related to regulating short-term rentals (STRs). This includes the application of the dormant commerce clause\, due process\, equal protection\, and takings provisions of the Constitution; and the role of zoning tools\, regulating platforms\, and business regulations in improving compliance. Lastly\, this presentation will consider what success looks like. \nSpeaker: Patricia “Trish” Link & Ashley J. Becnel
URL:https://imla.org/events/code-enforcement-webinar-6-29-23/
CATEGORIES:Webinar
END:VEVENT
END:VCALENDAR