BEGIN:VCALENDAR
VERSION:2.0
PRODID:-//IMLA - ECPv6.15.20//NONSGML v1.0//EN
CALSCALE:GREGORIAN
METHOD:PUBLISH
X-WR-CALNAME:IMLA
X-ORIGINAL-URL:https://imla.org
X-WR-CALDESC:Events for IMLA
REFRESH-INTERVAL;VALUE=DURATION:PT1H
X-Robots-Tag:noindex
X-PUBLISHED-TTL:PT1H
BEGIN:VTIMEZONE
TZID:America/New_York
BEGIN:DAYLIGHT
TZOFFSETFROM:-0500
TZOFFSETTO:-0400
TZNAME:EDT
DTSTART:20220313T070000
END:DAYLIGHT
BEGIN:STANDARD
TZOFFSETFROM:-0400
TZOFFSETTO:-0500
TZNAME:EST
DTSTART:20221106T060000
END:STANDARD
BEGIN:DAYLIGHT
TZOFFSETFROM:-0500
TZOFFSETTO:-0400
TZNAME:EDT
DTSTART:20230312T070000
END:DAYLIGHT
BEGIN:STANDARD
TZOFFSETFROM:-0400
TZOFFSETTO:-0500
TZNAME:EST
DTSTART:20231105T060000
END:STANDARD
BEGIN:DAYLIGHT
TZOFFSETFROM:-0500
TZOFFSETTO:-0400
TZNAME:EDT
DTSTART:20240310T070000
END:DAYLIGHT
BEGIN:STANDARD
TZOFFSETFROM:-0400
TZOFFSETTO:-0500
TZNAME:EST
DTSTART:20241103T060000
END:STANDARD
END:VTIMEZONE
BEGIN:VEVENT
DTSTART;TZID=America/New_York:20230622T130000
DTEND;TZID=America/New_York:20230622T140000
DTSTAMP:20260423T192002
CREATED:20230119T152751Z
LAST-MODIFIED:20230609T160732Z
UID:10001409-1687438800-1687442400@imla.org
SUMMARY:Preemption Webinar - Free Live For IMLA Members
DESCRIPTION:Post-COVID Equitable Housing Preemption\nCLE available to Kitchen Sink Subscribers and in some cases to others but fees may apply. \nThis session examines state preemption of local authority to protect tenants and expand access to affordable housing\, particularly following the implementation and expiration of emergency measures passed during the COVID-19 pandemic. Many state legislatures\, in both “red” and “blue” states\, preempt local governments from increasing housing supply\, crafting inclusionary zoning\, or implementing rent regulations to alleviate housing unaffordability. This dynamic often came to a head during the COVID-19 pandemic as local governments sought to impose eviction moratoriums and extend other support to burdened renters. The sunset of these provisions during a time of high inflation and projected recession has demonstrated the need for continued local government leadership on equitable housing policies\, and even where state preemption exists. Local governments may still be able advance housing equity despite preemption and there are ways that municipal attorneys can help local leaders navigate this complex landscape. \nSpeaker: Nestor Davidson\, Berbeth Foster & Marissa Roy
URL:https://imla.org/events/preemption-webinar-6-22-23/
CATEGORIES:Webinar
END:VEVENT
END:VCALENDAR