BEGIN:VCALENDAR
VERSION:2.0
PRODID:-//IMLA - ECPv6.15.20//NONSGML v1.0//EN
CALSCALE:GREGORIAN
METHOD:PUBLISH
X-ORIGINAL-URL:https://imla.org
X-WR-CALDESC:Events for IMLA
REFRESH-INTERVAL;VALUE=DURATION:PT1H
X-Robots-Tag:noindex
X-PUBLISHED-TTL:PT1H
BEGIN:VTIMEZONE
TZID:America/New_York
BEGIN:DAYLIGHT
TZOFFSETFROM:-0500
TZOFFSETTO:-0400
TZNAME:EDT
DTSTART:20220313T070000
END:DAYLIGHT
BEGIN:STANDARD
TZOFFSETFROM:-0400
TZOFFSETTO:-0500
TZNAME:EST
DTSTART:20221106T060000
END:STANDARD
BEGIN:DAYLIGHT
TZOFFSETFROM:-0500
TZOFFSETTO:-0400
TZNAME:EDT
DTSTART:20230312T070000
END:DAYLIGHT
BEGIN:STANDARD
TZOFFSETFROM:-0400
TZOFFSETTO:-0500
TZNAME:EST
DTSTART:20231105T060000
END:STANDARD
BEGIN:DAYLIGHT
TZOFFSETFROM:-0500
TZOFFSETTO:-0400
TZNAME:EDT
DTSTART:20240310T070000
END:DAYLIGHT
BEGIN:STANDARD
TZOFFSETFROM:-0400
TZOFFSETTO:-0500
TZNAME:EST
DTSTART:20241103T060000
END:STANDARD
END:VTIMEZONE
BEGIN:VEVENT
DTSTART;TZID=America/New_York:20230601T130000
DTEND;TZID=America/New_York:20230601T140000
DTSTAMP:20260423T174744
CREATED:20230215T183825Z
LAST-MODIFIED:20230215T183825Z
UID:10001211-1685624400-1685628000@imla.org
SUMMARY:Construction Webinar
DESCRIPTION:Sunshine Laws and the Vulnerability of Consultant Work Product in Public Works Construction Disputes\nThe United States Freedom of Information Act (FOIA) and similar state-level open records statutes are intended to promote transparent government operations.  However\, when public agency owners encounter construction disputes\, such “sunshine laws” may become an obstacle to resolving them.  This presentation will explore the vulnerability of consultant work product to public records act demands against the intersection of attorney-client and work product privilege. \nSpeaker: Bryan Payne & Charles Montgomery
URL:https://imla.org/events/construction-webinar-6-1-23/
CATEGORIES:Webinar
END:VEVENT
END:VCALENDAR