BEGIN:VCALENDAR
VERSION:2.0
PRODID:-//IMLA - ECPv6.15.20//NONSGML v1.0//EN
CALSCALE:GREGORIAN
METHOD:PUBLISH
X-ORIGINAL-URL:https://imla.org
X-WR-CALDESC:Events for IMLA
REFRESH-INTERVAL;VALUE=DURATION:PT1H
X-Robots-Tag:noindex
X-PUBLISHED-TTL:PT1H
BEGIN:VTIMEZONE
TZID:America/New_York
BEGIN:DAYLIGHT
TZOFFSETFROM:-0500
TZOFFSETTO:-0400
TZNAME:EDT
DTSTART:20220313T070000
END:DAYLIGHT
BEGIN:STANDARD
TZOFFSETFROM:-0400
TZOFFSETTO:-0500
TZNAME:EST
DTSTART:20221106T060000
END:STANDARD
BEGIN:DAYLIGHT
TZOFFSETFROM:-0500
TZOFFSETTO:-0400
TZNAME:EDT
DTSTART:20230312T070000
END:DAYLIGHT
BEGIN:STANDARD
TZOFFSETFROM:-0400
TZOFFSETTO:-0500
TZNAME:EST
DTSTART:20231105T060000
END:STANDARD
BEGIN:DAYLIGHT
TZOFFSETFROM:-0500
TZOFFSETTO:-0400
TZNAME:EDT
DTSTART:20240310T070000
END:DAYLIGHT
BEGIN:STANDARD
TZOFFSETFROM:-0400
TZOFFSETTO:-0500
TZNAME:EST
DTSTART:20241103T060000
END:STANDARD
END:VTIMEZONE
BEGIN:VEVENT
DTSTART;TZID=America/New_York:20230525T130000
DTEND;TZID=America/New_York:20230525T140000
DTSTAMP:20260423T174857
CREATED:20230119T210217Z
LAST-MODIFIED:20230208T153149Z
UID:10001410-1685019600-1685023200@imla.org
SUMMARY:Mental Health Webinar
DESCRIPTION:“In This Together” – Well-Being Practices for Lawyers\nSince 2016 the ABA and the ABA Commission on Lawyer Assistance Programs has heightened focus on Lawyer Well-Being. Often neglected in general “wellness” programs\, “well-being” represents not only mental and emotional health\, but life satisfaction\, purpose\, and fulfillment. This presentation explores some of the elements that boost well-being\, including Zen and how to incorporate it\, as well as a review of habits and practices recommended in the ABA activities workbook published in The Lawyer Well-Being Toolkit for Lawyers and Law Firms. \nSpeaker: Noreen Braman & Paula Garra Sawyer
URL:https://imla.org/events/mental-health-webinar-5-25-23/
CATEGORIES:Webinar
END:VEVENT
END:VCALENDAR