BEGIN:VCALENDAR
VERSION:2.0
PRODID:-//IMLA - ECPv6.15.20//NONSGML v1.0//EN
CALSCALE:GREGORIAN
METHOD:PUBLISH
X-ORIGINAL-URL:https://imla.org
X-WR-CALDESC:Events for IMLA
REFRESH-INTERVAL;VALUE=DURATION:PT1H
X-Robots-Tag:noindex
X-PUBLISHED-TTL:PT1H
BEGIN:VTIMEZONE
TZID:America/New_York
BEGIN:DAYLIGHT
TZOFFSETFROM:-0500
TZOFFSETTO:-0400
TZNAME:EDT
DTSTART:20220313T070000
END:DAYLIGHT
BEGIN:STANDARD
TZOFFSETFROM:-0400
TZOFFSETTO:-0500
TZNAME:EST
DTSTART:20221106T060000
END:STANDARD
BEGIN:DAYLIGHT
TZOFFSETFROM:-0500
TZOFFSETTO:-0400
TZNAME:EDT
DTSTART:20230312T070000
END:DAYLIGHT
BEGIN:STANDARD
TZOFFSETFROM:-0400
TZOFFSETTO:-0500
TZNAME:EST
DTSTART:20231105T060000
END:STANDARD
BEGIN:DAYLIGHT
TZOFFSETFROM:-0500
TZOFFSETTO:-0400
TZNAME:EDT
DTSTART:20240310T070000
END:DAYLIGHT
BEGIN:STANDARD
TZOFFSETFROM:-0400
TZOFFSETTO:-0500
TZNAME:EST
DTSTART:20241103T060000
END:STANDARD
END:VTIMEZONE
BEGIN:VEVENT
DTSTART;TZID=America/New_York:20230221T130000
DTEND;TZID=America/New_York:20230221T150000
DTSTAMP:20260423T194913
CREATED:20221214T220040Z
LAST-MODIFIED:20221219T152600Z
UID:10001372-1676984400-1676991600@imla.org
SUMMARY:Telecommunications Webinar
DESCRIPTION:Cell Tower Lease Rates and Sales\nIn the world of telecommunications law\, one question rises to the top of the list: What is the going rent for a cell tower lease?  This program will address that question\, with industry statistics\, which should be helpful for the thousands of landlords whose leases come up for renewal each year. \nThe program will also provide municipalities (and all property owners) with the basics of leasing land for a cell tower (or space on a building roof or other structure) for cell antennas\, including why 5G has little impact.  It is presented by two attorneys with decades of experience representing municipalities and other property owners on cell leases. \nIn general\, the program covers key business issues in cell site leases\, including lease rates\, who gets the revenues from additional antennas or carriers being co-located at a site\, and the major rent increases possible at renewals.  It then shifts to avoiding lease terms which can prevent a landlord’s use or development of the property with the lease\, and adding lease terms which help preserve these rights. \nAfter covering some more conventional lease terms the program addresses the sale of cell leases and future leasing rights.  This includes typical sale prices (often around 19 to 20 times annual revenues); when to sell and when it is not advisable to sell; how to get the best price and terms in a sale; and again avoiding provisions that restrict the development or use of the property. On both cell leases and the sale of leases the program addresses key items that are unique to municipalities. More generally\, the program covers such topics as lease term and terminations\, access requirements\, radio frequency interference\, design and camouflage\, and radio frequency emissions safety. \nSpeaker: John Pestle & Jonathan Kramer
URL:https://imla.org/events/telecommunications-webinar-2-21-23/
CATEGORIES:Webinar
END:VEVENT
END:VCALENDAR