BEGIN:VCALENDAR
VERSION:2.0
PRODID:-//IMLA - ECPv6.15.20//NONSGML v1.0//EN
CALSCALE:GREGORIAN
METHOD:PUBLISH
X-ORIGINAL-URL:https://imla.org
X-WR-CALDESC:Events for IMLA
REFRESH-INTERVAL;VALUE=DURATION:PT1H
X-Robots-Tag:noindex
X-PUBLISHED-TTL:PT1H
BEGIN:VTIMEZONE
TZID:America/New_York
BEGIN:DAYLIGHT
TZOFFSETFROM:-0500
TZOFFSETTO:-0400
TZNAME:EDT
DTSTART:20230312T070000
END:DAYLIGHT
BEGIN:STANDARD
TZOFFSETFROM:-0400
TZOFFSETTO:-0500
TZNAME:EST
DTSTART:20231105T060000
END:STANDARD
BEGIN:DAYLIGHT
TZOFFSETFROM:-0500
TZOFFSETTO:-0400
TZNAME:EDT
DTSTART:20240310T070000
END:DAYLIGHT
BEGIN:STANDARD
TZOFFSETFROM:-0400
TZOFFSETTO:-0500
TZNAME:EST
DTSTART:20241103T060000
END:STANDARD
BEGIN:DAYLIGHT
TZOFFSETFROM:-0500
TZOFFSETTO:-0400
TZNAME:EDT
DTSTART:20250309T070000
END:DAYLIGHT
BEGIN:STANDARD
TZOFFSETFROM:-0400
TZOFFSETTO:-0500
TZNAME:EST
DTSTART:20251102T060000
END:STANDARD
END:VTIMEZONE
BEGIN:VEVENT
DTSTART;TZID=America/New_York:20240702T130000
DTEND;TZID=America/New_York:20240702T140000
DTSTAMP:20260422T210808
CREATED:20240408T212510Z
LAST-MODIFIED:20240701T135239Z
UID:10001512-1719925200-1719928800@imla.org
SUMMARY:Well-Being Webinar
DESCRIPTION:Wellness in Law: Finding Harmony Between Personal and Professional Performance\nThis session will tentatively cover the following topics: \n\nExplain the importance of attorney well-being as an integral aspect of fulfilling the duty of   competence\nDefine the dimensions of Well-Being in Law\nProvide recommendations for positive change in attorney well-being\nAnalyze a case study of a law firm as one of the best places to work\nPromote resources available to attorneys\n\nSpeaker: Ken Nourse
URL:https://imla.org/events/well-being-webinar-7-2-24/
CATEGORIES:Webinar
END:VEVENT
BEGIN:VEVENT
DTSTART;TZID=America/New_York:20240708T130000
DTEND;TZID=America/New_York:20240708T143000
DTSTAMP:20260422T210808
CREATED:20240621T160224Z
LAST-MODIFIED:20240621T160224Z
UID:10001535-1720443600-1720449000@imla.org
SUMMARY:LGLC Supreme Court Review for Local Governments: 2023-2024 Term Webinar - This is not an IMLA Webinar
DESCRIPTION:Supreme Court Review for Local Governments: 2023-2024 Term\n\nThis is NOT an IMLA webinar and CLE will not be offered by IMLA. \nHosted by the Local Government Legal Center (LGLC)\, join legal experts in a discussion of the Supreme Court’s important decisions of the term impacting local governments. The Supreme Court heard several monumental cases this term\, including cases related to: \n\nHomeless encampments\nFirst Amendment social media for government employees and officials\nAn employment standard for transfers under Title VII\nImpact fees and more!\n\nThe LGLC is a coalition of national local government organizations formed in 2023 by the National Association of Counties (NACo)\, National League of Cities (NLC) and International Municipal Lawyers Association (IMLA) to provide education to local governments regarding the Supreme Court and its impact on local governments and local officials and to advocate for local government positions at the Supreme Court in appropriate cases. Visit the Local Government Legal Center to learn more. \nSpeakers: Theane Evangelis\, John Korzen & Amanda Karras
URL:https://imla.org/events/lglc-supreme-court-review-7-8-24/
CATEGORIES:Webinar
END:VEVENT
BEGIN:VEVENT
DTSTART;TZID=America/New_York:20240709T130000
DTEND;TZID=America/New_York:20240709T140000
DTSTAMP:20260422T210808
CREATED:20240312T144706Z
LAST-MODIFIED:20240521T204027Z
UID:10001507-1720530000-1720533600@imla.org
SUMMARY:Public Information Acts Webinar
DESCRIPTION:Current Challenges and Trending Topics in Public Information Acts\nThis CLE will focus on the current challenges faced by government lawyers assisting their clients in navigating their state’s public information act laws.  It will discuss trends and best practices for navigating this ever-changing field. \nSpeaker: Hilary Ruley
URL:https://imla.org/events/public-information-acts-webinar-7-9-24/
CATEGORIES:Webinar
END:VEVENT
BEGIN:VEVENT
DTSTART;TZID=America/New_York:20240711T130000
DTEND;TZID=America/New_York:20240711T140000
DTSTAMP:20260422T210808
CREATED:20240220T195514Z
LAST-MODIFIED:20240521T204052Z
UID:10001503-1720702800-1720706400@imla.org
SUMMARY:Telecom Webinar
DESCRIPTION:Modern Franchising – Authority\, Revenue\, & Digital Equality\nThis CLE will show how cable franchises are still important contracts for local governments\, discuss the impact of streaming video on these contracts\, and review recent litigation and legislation. We will discuss how modern broadband franchising could be used to best ensure equal access to broadband\, including a review of current litigation\, legislation\, the BEAD program\, the Internet Tax Freedom Act (ITFA)\, and FCC advocacy. We will also review the FCC’s Digital Discrimination Order\, municipal participation in the docket\, and its appeal to the Eighth Circuit. \nSpeaker: Michael “Mike” Bradley
URL:https://imla.org/events/telecom-webinar-7-11-24/
CATEGORIES:Webinar
END:VEVENT
BEGIN:VEVENT
DTSTART;TZID=America/New_York:20240716T130000
DTEND;TZID=America/New_York:20240716T140000
DTSTAMP:20260422T210808
CREATED:20240312T144903Z
LAST-MODIFIED:20240521T204113Z
UID:10001506-1721134800-1721138400@imla.org
SUMMARY:Service Animals Webinar
DESCRIPTION:IT’S A ZOO HERE! A practical guide on permitting Service Animals into the Workplace\nIt is important to accommodate wherever possible any employee with a disability who needs the accommodation of a service animal.  As an employer\, you need to understand what a service animal is\, what is a reasonable expectation and request from you\, and how to blend all of that.  Not always easy\, but we have some suggestions.  Join us for the answers! \nSpeaker: Joanie Winters
URL:https://imla.org/events/service-animals-webinar-7-16-24/
CATEGORIES:Webinar
END:VEVENT
BEGIN:VEVENT
DTSTART;TZID=America/New_York:20240718T130000
DTEND;TZID=America/New_York:20240718T140000
DTSTAMP:20260422T210808
CREATED:20240523T184400Z
LAST-MODIFIED:20240523T202208Z
UID:10001534-1721307600-1721311200@imla.org
SUMMARY:Construction Webinar
DESCRIPTION:Critical Construction Contract Clauses and the Disputes that Often Arise from Them\nConstruction contracts can be hundreds of pages. This presentation will identify and explain the handful of key clauses that are frequently central to disputes and litigation between contractors and public owners. The speakers will provide typical language\, describe the intended purpose\, give real world examples\, and offer key take-aways for the following important contract provisions: differing site conditions\, quantity variations\, scheduling\, time extensions\, and compensation for delay. \nSpeaker: Greg Holness\, P.E.\, Esq. & Haswanth Venkatavijayan
URL:https://imla.org/events/construction-webinar-6-13-24/
CATEGORIES:Webinar
END:VEVENT
END:VCALENDAR