BEGIN:VCALENDAR
VERSION:2.0
PRODID:-//IMLA - ECPv6.15.20//NONSGML v1.0//EN
CALSCALE:GREGORIAN
METHOD:PUBLISH
X-ORIGINAL-URL:https://imla.org
X-WR-CALDESC:Events for IMLA
REFRESH-INTERVAL;VALUE=DURATION:PT1H
X-Robots-Tag:noindex
X-PUBLISHED-TTL:PT1H
BEGIN:VTIMEZONE
TZID:America/New_York
BEGIN:DAYLIGHT
TZOFFSETFROM:-0500
TZOFFSETTO:-0400
TZNAME:EDT
DTSTART:20220313T070000
END:DAYLIGHT
BEGIN:STANDARD
TZOFFSETFROM:-0400
TZOFFSETTO:-0500
TZNAME:EST
DTSTART:20221106T060000
END:STANDARD
BEGIN:DAYLIGHT
TZOFFSETFROM:-0500
TZOFFSETTO:-0400
TZNAME:EDT
DTSTART:20230312T070000
END:DAYLIGHT
BEGIN:STANDARD
TZOFFSETFROM:-0400
TZOFFSETTO:-0500
TZNAME:EST
DTSTART:20231105T060000
END:STANDARD
BEGIN:DAYLIGHT
TZOFFSETFROM:-0500
TZOFFSETTO:-0400
TZNAME:EDT
DTSTART:20240310T070000
END:DAYLIGHT
BEGIN:STANDARD
TZOFFSETFROM:-0400
TZOFFSETTO:-0500
TZNAME:EST
DTSTART:20241103T060000
END:STANDARD
END:VTIMEZONE
BEGIN:VEVENT
DTSTART;TZID=America/New_York:20231031T130000
DTEND;TZID=America/New_York:20231031T140000
DTSTAMP:20260423T110438
CREATED:20230901T145505Z
LAST-MODIFIED:20230922T203532Z
UID:10001447-1698757200-1698760800@imla.org
SUMMARY:Local Government Legal Center Supreme Court Review Webinar
DESCRIPTION:Supreme Court Preview for Local Governments: 2023-2024 Term\nThis is NOT an IMLA webinar and CLE will not be offered by IMLA. Hosted by the Local Government Legal Center (LGLC)\, join legal experts in a discussion of the new Supreme Court term and what decisions local governments should watch.  The Supreme Court will rule on several major cases this term\, including on issues related to: \n\nA possible new standard for employment liability under Title VII;\nWhether a public official’s social media account can constitute state action for the purposes of the First Amendment;\nWhether the Supreme Court should overrule Chevron v. Natural Resources Defense Council\, which relates to deference that courts should provide administrative agencies; and\nWhether firearm regulations prohibiting individuals subject to domestic violence restraining orders violate the Second Amendment\n\nThe LGLC is a coalition of national local government organizations formed in 2023 by the National Association of Counties (NACo)\, National League of Cities (NLC)\, International Municipal Lawyers Association (IMLA) and Government Finance Officers Association (GFOA) to provide education to local governments regarding the Supreme Court and its impact on local governments and local officials and to advocate for local government positions at the Supreme Court in appropriate cases. Learn more. \nSpeaker: Michelle Kallen & Robert Loeb\nModerator: Erich Eiselt\, IMLA’s Deputy General Counsel
URL:https://imla.org/events/lclg-supreme-court-review-webinar-10-31-23/
CATEGORIES:Webinar
END:VEVENT
END:VCALENDAR