BEGIN:VCALENDAR
VERSION:2.0
PRODID:-//IMLA - ECPv6.15.20//NONSGML v1.0//EN
CALSCALE:GREGORIAN
METHOD:PUBLISH
X-ORIGINAL-URL:https://imla.org
X-WR-CALDESC:Events for IMLA
REFRESH-INTERVAL;VALUE=DURATION:PT1H
X-Robots-Tag:noindex
X-PUBLISHED-TTL:PT1H
BEGIN:VTIMEZONE
TZID:America/New_York
BEGIN:DAYLIGHT
TZOFFSETFROM:-0500
TZOFFSETTO:-0400
TZNAME:EDT
DTSTART:20210314T070000
END:DAYLIGHT
BEGIN:STANDARD
TZOFFSETFROM:-0400
TZOFFSETTO:-0500
TZNAME:EST
DTSTART:20211107T060000
END:STANDARD
BEGIN:DAYLIGHT
TZOFFSETFROM:-0500
TZOFFSETTO:-0400
TZNAME:EDT
DTSTART:20220313T070000
END:DAYLIGHT
BEGIN:STANDARD
TZOFFSETFROM:-0400
TZOFFSETTO:-0500
TZNAME:EST
DTSTART:20221106T060000
END:STANDARD
BEGIN:DAYLIGHT
TZOFFSETFROM:-0500
TZOFFSETTO:-0400
TZNAME:EDT
DTSTART:20230312T070000
END:DAYLIGHT
BEGIN:STANDARD
TZOFFSETFROM:-0400
TZOFFSETTO:-0500
TZNAME:EST
DTSTART:20231105T060000
END:STANDARD
END:VTIMEZONE
BEGIN:VEVENT
DTSTART;VALUE=DATE:20220708
DTEND;VALUE=DATE:20220709
DTSTAMP:20260419T090712
CREATED:20220623T153921Z
LAST-MODIFIED:20220623T153921Z
UID:10001341-1657238400-1657324799@imla.org
SUMMARY:Awards Intent to Nominate Form Deadline
DESCRIPTION:The IMLA Awards Committee is composed of members from both the Board of Directors and the general membership. The charge to this Committee is to seek out potential recipients of these awards\, to seek out potential nominators of those individuals\, to encourage and assist potential nominators in submitting the documentation required to support a nomination\, and to review nominations and recommend one or more nominees to the IMLA Board of Directors. The Board of Directors will select the recipients of the Awards\, and the Awards will be presented at the Annual IMLA Conference. \nClick Here to view the awards and submit your intent to nominate form.
URL:https://imla.org/events/awards-intent-to-nominate-form-deadline/
CATEGORIES:Regular Programming
END:VEVENT
END:VCALENDAR