BEGIN:VCALENDAR
VERSION:2.0
PRODID:-//IMLA - ECPv6.15.20//NONSGML v1.0//EN
CALSCALE:GREGORIAN
METHOD:PUBLISH
X-WR-CALNAME:IMLA
X-ORIGINAL-URL:https://imla.org
X-WR-CALDESC:Events for IMLA
REFRESH-INTERVAL;VALUE=DURATION:PT1H
X-Robots-Tag:noindex
X-PUBLISHED-TTL:PT1H
BEGIN:VTIMEZONE
TZID:America/New_York
BEGIN:DAYLIGHT
TZOFFSETFROM:-0500
TZOFFSETTO:-0400
TZNAME:EDT
DTSTART:20220313T070000
END:DAYLIGHT
BEGIN:STANDARD
TZOFFSETFROM:-0400
TZOFFSETTO:-0500
TZNAME:EST
DTSTART:20221106T060000
END:STANDARD
BEGIN:DAYLIGHT
TZOFFSETFROM:-0500
TZOFFSETTO:-0400
TZNAME:EDT
DTSTART:20230312T070000
END:DAYLIGHT
BEGIN:STANDARD
TZOFFSETFROM:-0400
TZOFFSETTO:-0500
TZNAME:EST
DTSTART:20231105T060000
END:STANDARD
BEGIN:DAYLIGHT
TZOFFSETFROM:-0500
TZOFFSETTO:-0400
TZNAME:EDT
DTSTART:20240310T070000
END:DAYLIGHT
BEGIN:STANDARD
TZOFFSETFROM:-0400
TZOFFSETTO:-0500
TZNAME:EST
DTSTART:20241103T060000
END:STANDARD
END:VTIMEZONE
BEGIN:VEVENT
DTSTART;TZID=America/New_York:20230111T150000
DTEND;TZID=America/New_York:20230111T160000
DTSTAMP:20260425T062408
CREATED:20230104T200817Z
LAST-MODIFIED:20230104T200817Z
UID:10001388-1673449200-1673452800@imla.org
SUMMARY:Diversity Working Group Call
DESCRIPTION:If you care to take part in this call\, please email cstorer@imla.org. \nWelcome back to everyone for the 2023 year!  This meeting will be an open discussion on what DEI topics you would like to see in webinars\, zoom meetings\, and book clubs for the 2023 year.  We are open to suggestions that either directly impact your local government\, current issues\, and/or programs and solutions you would like to spotlight.
URL:https://imla.org/events/small-rural-communities-working-group-call-2-2-2/
CATEGORIES:IMLA Conference Call
END:VEVENT
END:VCALENDAR