BEGIN:VCALENDAR
VERSION:2.0
PRODID:-//IMLA - ECPv6.15.20//NONSGML v1.0//EN
CALSCALE:GREGORIAN
METHOD:PUBLISH
X-ORIGINAL-URL:https://imla.org
X-WR-CALDESC:Events for IMLA
REFRESH-INTERVAL;VALUE=DURATION:PT1H
X-Robots-Tag:noindex
X-PUBLISHED-TTL:PT1H
BEGIN:VTIMEZONE
TZID:America/New_York
BEGIN:DAYLIGHT
TZOFFSETFROM:-0500
TZOFFSETTO:-0400
TZNAME:EDT
DTSTART:20240310T070000
END:DAYLIGHT
BEGIN:STANDARD
TZOFFSETFROM:-0400
TZOFFSETTO:-0500
TZNAME:EST
DTSTART:20241103T060000
END:STANDARD
BEGIN:DAYLIGHT
TZOFFSETFROM:-0500
TZOFFSETTO:-0400
TZNAME:EDT
DTSTART:20250309T070000
END:DAYLIGHT
BEGIN:STANDARD
TZOFFSETFROM:-0400
TZOFFSETTO:-0500
TZNAME:EST
DTSTART:20251102T060000
END:STANDARD
BEGIN:DAYLIGHT
TZOFFSETFROM:-0500
TZOFFSETTO:-0400
TZNAME:EDT
DTSTART:20260308T070000
END:DAYLIGHT
BEGIN:STANDARD
TZOFFSETFROM:-0400
TZOFFSETTO:-0500
TZNAME:EST
DTSTART:20261101T060000
END:STANDARD
END:VTIMEZONE
BEGIN:VEVENT
DTSTART;TZID=America/New_York:20250604T150000
DTEND;TZID=America/New_York:20250604T160000
DTSTAMP:20260423T064918
CREATED:20250313T192336Z
LAST-MODIFIED:20250313T192338Z
UID:10001636-1749049200-1749052800@imla.org
SUMMARY:DEI Working Group Call
DESCRIPTION:If you care to take part in this call\, please email amorris@imla.org.
URL:https://imla.org/events/dei-working-group-call/2025-06-04/
CATEGORIES:IMLA Conference Call
END:VEVENT
BEGIN:VEVENT
DTSTART;TZID=America/New_York:20250605T140000
DTEND;TZID=America/New_York:20250605T150000
DTSTAMP:20260423T064918
CREATED:20250121T195835Z
LAST-MODIFIED:20250121T195835Z
UID:10001582-1749132000-1749135600@imla.org
SUMMARY:Homelessness Working Group Call
DESCRIPTION:If you care to take part in this call\, please email cstorer@imla.org.
URL:https://imla.org/events/homelessness-working-group-call-2/2025-06-05/
CATEGORIES:IMLA Conference Call
END:VEVENT
BEGIN:VEVENT
DTSTART;TZID=America/New_York:20250605T150000
DTEND;TZID=America/New_York:20250605T160000
DTSTAMP:20260423T064918
CREATED:20250313T192502Z
LAST-MODIFIED:20250313T193918Z
UID:10001676-1749135600-1749139200@imla.org
SUMMARY:Federal Funding Call
DESCRIPTION:If you care to take part in this call\, please email cstorer@imla.org.
URL:https://imla.org/events/federal-funding-call/2025-06-05/
CATEGORIES:IMLA Conference Call
END:VEVENT
BEGIN:VEVENT
DTSTART;TZID=America/New_York:20250611T140000
DTEND;TZID=America/New_York:20250611T150000
DTSTAMP:20260423T064918
CREATED:20250313T192103Z
LAST-MODIFIED:20250313T192103Z
UID:10001617-1749650400-1749654000@imla.org
SUMMARY:Immigration Working Group Call
DESCRIPTION:If you care to take part in this call\, please email cstorer@imla.org.
URL:https://imla.org/events/immigration-working-group-call/2025-06-11/
CATEGORIES:IMLA Conference Call
END:VEVENT
BEGIN:VEVENT
DTSTART;TZID=America/New_York:20250611T140000
DTEND;TZID=America/New_York:20250611T150000
DTSTAMP:20260423T064918
CREATED:20250313T194137Z
LAST-MODIFIED:20250313T194232Z
UID:10001701-1749650400-1749654000@imla.org
SUMMARY:World Cup Working Group Call
DESCRIPTION:If you care to take part in this call\, please email amorris@imla.org.
URL:https://imla.org/events/federal-funding-call-2/2025-06-11/
CATEGORIES:IMLA Conference Call
END:VEVENT
BEGIN:VEVENT
DTSTART;TZID=America/New_York:20250619T150000
DTEND;TZID=America/New_York:20250619T160000
DTSTAMP:20260423T064918
CREATED:20250313T192502Z
LAST-MODIFIED:20250313T193918Z
UID:10001677-1750345200-1750348800@imla.org
SUMMARY:Federal Funding Call
DESCRIPTION:If you care to take part in this call\, please email cstorer@imla.org.
URL:https://imla.org/events/federal-funding-call/2025-06-19/
CATEGORIES:IMLA Conference Call
END:VEVENT
BEGIN:VEVENT
DTSTART;TZID=America/New_York:20250625T140000
DTEND;TZID=America/New_York:20250625T150000
DTSTAMP:20260423T064918
CREATED:20250313T192103Z
LAST-MODIFIED:20250313T192103Z
UID:10001618-1750860000-1750863600@imla.org
SUMMARY:Immigration Working Group Call
DESCRIPTION:If you care to take part in this call\, please email cstorer@imla.org.
URL:https://imla.org/events/immigration-working-group-call/2025-06-25/
CATEGORIES:IMLA Conference Call
END:VEVENT
BEGIN:VEVENT
DTSTART;TZID=America/New_York:20250630T150000
DTEND;TZID=America/New_York:20250630T160000
DTSTAMP:20260423T064918
CREATED:20250313T193045Z
LAST-MODIFIED:20250313T193324Z
UID:10001654-1751295600-1751299200@imla.org
SUMMARY:Code Enforcement Working Group Call
DESCRIPTION:If you care to take part in this call\, please email amorris@imla.org.
URL:https://imla.org/events/code-enforcement-working-group-call-2-2/2025-06-30/
CATEGORIES:IMLA Conference Call
END:VEVENT
END:VCALENDAR