BEGIN:VCALENDAR
VERSION:2.0
PRODID:-//IMLA - ECPv6.15.20//NONSGML v1.0//EN
CALSCALE:GREGORIAN
METHOD:PUBLISH
X-ORIGINAL-URL:https://imla.org
X-WR-CALDESC:Events for IMLA
REFRESH-INTERVAL;VALUE=DURATION:PT1H
X-Robots-Tag:noindex
X-PUBLISHED-TTL:PT1H
BEGIN:VTIMEZONE
TZID:America/New_York
BEGIN:DAYLIGHT
TZOFFSETFROM:-0500
TZOFFSETTO:-0400
TZNAME:EDT
DTSTART:20240310T070000
END:DAYLIGHT
BEGIN:STANDARD
TZOFFSETFROM:-0400
TZOFFSETTO:-0500
TZNAME:EST
DTSTART:20241103T060000
END:STANDARD
BEGIN:DAYLIGHT
TZOFFSETFROM:-0500
TZOFFSETTO:-0400
TZNAME:EDT
DTSTART:20250309T070000
END:DAYLIGHT
BEGIN:STANDARD
TZOFFSETFROM:-0400
TZOFFSETTO:-0500
TZNAME:EST
DTSTART:20251102T060000
END:STANDARD
BEGIN:DAYLIGHT
TZOFFSETFROM:-0500
TZOFFSETTO:-0400
TZNAME:EDT
DTSTART:20260308T070000
END:DAYLIGHT
BEGIN:STANDARD
TZOFFSETFROM:-0400
TZOFFSETTO:-0500
TZNAME:EST
DTSTART:20261101T060000
END:STANDARD
END:VTIMEZONE
BEGIN:VEVENT
DTSTART;TZID=America/New_York:20250501T140000
DTEND;TZID=America/New_York:20250501T150000
DTSTAMP:20260423T101130
CREATED:20250121T195835Z
LAST-MODIFIED:20250121T195835Z
UID:10001581-1746108000-1746111600@imla.org
SUMMARY:Homelessness Working Group Call
DESCRIPTION:If you care to take part in this call\, please email cstorer@imla.org.
URL:https://imla.org/events/homelessness-working-group-call-2/2025-05-01/
CATEGORIES:IMLA Conference Call
END:VEVENT
BEGIN:VEVENT
DTSTART;TZID=America/New_York:20250507T150000
DTEND;TZID=America/New_York:20250507T160000
DTSTAMP:20260423T101130
CREATED:20250313T192336Z
LAST-MODIFIED:20250313T192338Z
UID:10001634-1746630000-1746633600@imla.org
SUMMARY:DEI Working Group Call
DESCRIPTION:If you care to take part in this call\, please email amorris@imla.org.
URL:https://imla.org/events/dei-working-group-call/2025-05-07/
CATEGORIES:IMLA Conference Call
END:VEVENT
BEGIN:VEVENT
DTSTART;TZID=America/New_York:20250508T150000
DTEND;TZID=America/New_York:20250508T160000
DTSTAMP:20260423T101130
CREATED:20250313T192502Z
LAST-MODIFIED:20250313T193918Z
UID:10001674-1746716400-1746720000@imla.org
SUMMARY:Federal Funding Call
DESCRIPTION:If you care to take part in this call\, please email cstorer@imla.org.
URL:https://imla.org/events/federal-funding-call/2025-05-08/
CATEGORIES:IMLA Conference Call
END:VEVENT
BEGIN:VEVENT
DTSTART;TZID=America/New_York:20250514T140000
DTEND;TZID=America/New_York:20250514T150000
DTSTAMP:20260423T101130
CREATED:20250313T192103Z
LAST-MODIFIED:20250313T192103Z
UID:10001615-1747231200-1747234800@imla.org
SUMMARY:Immigration Working Group Call
DESCRIPTION:If you care to take part in this call\, please email cstorer@imla.org.
URL:https://imla.org/events/immigration-working-group-call/2025-05-14/
CATEGORIES:IMLA Conference Call
END:VEVENT
BEGIN:VEVENT
DTSTART;TZID=America/New_York:20250514T140000
DTEND;TZID=America/New_York:20250514T150000
DTSTAMP:20260423T101130
CREATED:20250313T194137Z
LAST-MODIFIED:20250313T194232Z
UID:10001691-1747231200-1747234800@imla.org
SUMMARY:World Cup Working Group Call
DESCRIPTION:If you care to take part in this call\, please email amorris@imla.org.
URL:https://imla.org/events/federal-funding-call-2/2025-05-14/
CATEGORIES:IMLA Conference Call
END:VEVENT
BEGIN:VEVENT
DTSTART;TZID=America/New_York:20250519T140000
DTEND;TZID=America/New_York:20250519T150000
DTSTAMP:20260423T101130
CREATED:20230104T200930Z
LAST-MODIFIED:20230104T201019Z
UID:10001403-1747663200-1747666800@imla.org
SUMMARY:Small/Rural Communities Working Group Call
DESCRIPTION:If you care to take part in this call\, please email cstorer@imla.org.
URL:https://imla.org/events/small-rural-communities-working-group-call-3/2025-05-19/
CATEGORIES:IMLA Conference Call
END:VEVENT
BEGIN:VEVENT
DTSTART;TZID=America/New_York:20250521T150000
DTEND;TZID=America/New_York:20250521T160000
DTSTAMP:20260423T101130
CREATED:20250313T192336Z
LAST-MODIFIED:20250313T192338Z
UID:10001635-1747839600-1747843200@imla.org
SUMMARY:DEI Working Group Call
DESCRIPTION:If you care to take part in this call\, please email amorris@imla.org.
URL:https://imla.org/events/dei-working-group-call/2025-05-21/
CATEGORIES:IMLA Conference Call
END:VEVENT
BEGIN:VEVENT
DTSTART;TZID=America/New_York:20250522T150000
DTEND;TZID=America/New_York:20250522T160000
DTSTAMP:20260423T101130
CREATED:20250313T192502Z
LAST-MODIFIED:20250313T193918Z
UID:10001675-1747926000-1747929600@imla.org
SUMMARY:Federal Funding Call
DESCRIPTION:If you care to take part in this call\, please email cstorer@imla.org.
URL:https://imla.org/events/federal-funding-call/2025-05-22/
CATEGORIES:IMLA Conference Call
END:VEVENT
BEGIN:VEVENT
DTSTART;TZID=America/New_York:20250526T150000
DTEND;TZID=America/New_York:20250526T160000
DTSTAMP:20260423T101130
CREATED:20250313T193045Z
LAST-MODIFIED:20250313T193324Z
UID:10001653-1748271600-1748275200@imla.org
SUMMARY:Code Enforcement Working Group Call
DESCRIPTION:If you care to take part in this call\, please email amorris@imla.org.
URL:https://imla.org/events/code-enforcement-working-group-call-2-2/2025-05-26/
CATEGORIES:IMLA Conference Call
END:VEVENT
BEGIN:VEVENT
DTSTART;TZID=America/New_York:20250528T140000
DTEND;TZID=America/New_York:20250528T150000
DTSTAMP:20260423T101130
CREATED:20250313T192103Z
LAST-MODIFIED:20250313T192103Z
UID:10001616-1748440800-1748444400@imla.org
SUMMARY:Immigration Working Group Call
DESCRIPTION:If you care to take part in this call\, please email cstorer@imla.org.
URL:https://imla.org/events/immigration-working-group-call/2025-05-28/
CATEGORIES:IMLA Conference Call
END:VEVENT
END:VCALENDAR