BEGIN:VCALENDAR
VERSION:2.0
PRODID:-//IMLA - ECPv6.15.20//NONSGML v1.0//EN
CALSCALE:GREGORIAN
METHOD:PUBLISH
X-ORIGINAL-URL:https://imla.org
X-WR-CALDESC:Events for IMLA
REFRESH-INTERVAL;VALUE=DURATION:PT1H
X-Robots-Tag:noindex
X-PUBLISHED-TTL:PT1H
BEGIN:VTIMEZONE
TZID:America/New_York
BEGIN:DAYLIGHT
TZOFFSETFROM:-0500
TZOFFSETTO:-0400
TZNAME:EDT
DTSTART:20230312T070000
END:DAYLIGHT
BEGIN:STANDARD
TZOFFSETFROM:-0400
TZOFFSETTO:-0500
TZNAME:EST
DTSTART:20231105T060000
END:STANDARD
BEGIN:DAYLIGHT
TZOFFSETFROM:-0500
TZOFFSETTO:-0400
TZNAME:EDT
DTSTART:20240310T070000
END:DAYLIGHT
BEGIN:STANDARD
TZOFFSETFROM:-0400
TZOFFSETTO:-0500
TZNAME:EST
DTSTART:20241103T060000
END:STANDARD
BEGIN:DAYLIGHT
TZOFFSETFROM:-0500
TZOFFSETTO:-0400
TZNAME:EDT
DTSTART:20250309T070000
END:DAYLIGHT
BEGIN:STANDARD
TZOFFSETFROM:-0400
TZOFFSETTO:-0500
TZNAME:EST
DTSTART:20251102T060000
END:STANDARD
END:VTIMEZONE
BEGIN:VEVENT
DTSTART;TZID=America/New_York:20240703T150000
DTEND;TZID=America/New_York:20240703T160000
DTSTAMP:20260424T093103
CREATED:20240416T201616Z
LAST-MODIFIED:20240416T201616Z
UID:10001524-1720018800-1720022400@imla.org
SUMMARY:Counties Working Group Call
DESCRIPTION:If you care to take part in this call\, please email cstorer@imla.org.
URL:https://imla.org/events/counties-working-group-call-7-3-24/
CATEGORIES:IMLA Conference Call
END:VEVENT
BEGIN:VEVENT
DTSTART;TZID=America/New_York:20240710T140000
DTEND;TZID=America/New_York:20240710T150000
DTSTAMP:20260424T093103
CREATED:20240416T201112Z
LAST-MODIFIED:20240416T201112Z
UID:10001522-1720620000-1720623600@imla.org
SUMMARY:World Cup Working Group Call
DESCRIPTION:If you care to take part in this call\, please email amorris@imla.org.
URL:https://imla.org/events/world-cup-working-group-call-7-10-24/
CATEGORIES:IMLA Conference Call
END:VEVENT
BEGIN:VEVENT
DTSTART;TZID=America/New_York:20240715T140000
DTEND;TZID=America/New_York:20240715T150000
DTSTAMP:20260424T093103
CREATED:20230104T200930Z
LAST-MODIFIED:20230104T201019Z
UID:10001398-1721052000-1721055600@imla.org
SUMMARY:Small/Rural Communities Working Group Call
DESCRIPTION:If you care to take part in this call\, please email cstorer@imla.org.
URL:https://imla.org/events/small-rural-communities-working-group-call-3/2024-07-15/
CATEGORIES:IMLA Conference Call
END:VEVENT
BEGIN:VEVENT
DTSTART;TZID=America/New_York:20240716T140000
DTEND;TZID=America/New_York:20240716T150000
DTSTAMP:20260424T093103
CREATED:20231023T190536Z
LAST-MODIFIED:20231023T190536Z
UID:10001480-1721138400-1721142000@imla.org
SUMMARY:Police Alternatives Meeting
DESCRIPTION:If you care to take part in this call or working group\, please email cstorer@imla.org.
URL:https://imla.org/events/police-alternatives-meeting-7-21-23-2/2024-07-16/
CATEGORIES:IMLA Conference Call
END:VEVENT
BEGIN:VEVENT
DTSTART;TZID=America/New_York:20240729T150000
DTEND;TZID=America/New_York:20240729T150000
DTSTAMP:20260424T093103
CREATED:20231009T192856Z
LAST-MODIFIED:20231009T192856Z
UID:10001464-1722265200-1722265200@imla.org
SUMMARY:Code Enforcement Working Group Call
DESCRIPTION:If you care to take part in this call\, please email cstorer@imla.org.
URL:https://imla.org/events/code-enforcement-working-group-call/2024-07-29/
CATEGORIES:IMLA Conference Call
END:VEVENT
END:VCALENDAR