BEGIN:VCALENDAR
VERSION:2.0
PRODID:-//IMLA - ECPv6.15.20//NONSGML v1.0//EN
CALSCALE:GREGORIAN
METHOD:PUBLISH
X-ORIGINAL-URL:https://imla.org
X-WR-CALDESC:Events for IMLA
REFRESH-INTERVAL;VALUE=DURATION:PT1H
X-Robots-Tag:noindex
X-PUBLISHED-TTL:PT1H
BEGIN:VTIMEZONE
TZID:America/New_York
BEGIN:DAYLIGHT
TZOFFSETFROM:-0500
TZOFFSETTO:-0400
TZNAME:EDT
DTSTART:20230312T070000
END:DAYLIGHT
BEGIN:STANDARD
TZOFFSETFROM:-0400
TZOFFSETTO:-0500
TZNAME:EST
DTSTART:20231105T060000
END:STANDARD
BEGIN:DAYLIGHT
TZOFFSETFROM:-0500
TZOFFSETTO:-0400
TZNAME:EDT
DTSTART:20240310T070000
END:DAYLIGHT
BEGIN:STANDARD
TZOFFSETFROM:-0400
TZOFFSETTO:-0500
TZNAME:EST
DTSTART:20241103T060000
END:STANDARD
BEGIN:DAYLIGHT
TZOFFSETFROM:-0500
TZOFFSETTO:-0400
TZNAME:EDT
DTSTART:20250309T070000
END:DAYLIGHT
BEGIN:STANDARD
TZOFFSETFROM:-0400
TZOFFSETTO:-0500
TZNAME:EST
DTSTART:20251102T060000
END:STANDARD
END:VTIMEZONE
BEGIN:VEVENT
DTSTART;TZID=America/New_York:20240212T140000
DTEND;TZID=America/New_York:20240212T150000
DTSTAMP:20260424T201216
CREATED:20230504T191552Z
LAST-MODIFIED:20230504T191552Z
UID:10001443-1707746400-1707750000@imla.org
SUMMARY:Elected Attorney Meeting
DESCRIPTION:If you care to take part in this call or working group\, please email cstorer@imla.org.
URL:https://imla.org/events/elected-attorney-meeting/2024-02-12/
CATEGORIES:IMLA Conference Call
END:VEVENT
BEGIN:VEVENT
DTSTART;TZID=America/New_York:20240214T140000
DTEND;TZID=America/New_York:20240214T150000
DTSTAMP:20260424T201216
CREATED:20240122T182910Z
LAST-MODIFIED:20240122T183653Z
UID:10001494-1707919200-1707922800@imla.org
SUMMARY:World Cup Working Group Call
DESCRIPTION:If you care to take part in this call\, please email amorris@imla.org.
URL:https://imla.org/events/world-cup-working-group-call/
CATEGORIES:IMLA Conference Call
END:VEVENT
BEGIN:VEVENT
DTSTART;TZID=America/New_York:20240220T140000
DTEND;TZID=America/New_York:20240220T150000
DTSTAMP:20260424T201216
CREATED:20231023T190536Z
LAST-MODIFIED:20231023T190536Z
UID:10001475-1708437600-1708441200@imla.org
SUMMARY:Police Alternatives Meeting
DESCRIPTION:If you care to take part in this call or working group\, please email cstorer@imla.org.
URL:https://imla.org/events/police-alternatives-meeting-7-21-23-2/2024-02-20/
CATEGORIES:IMLA Conference Call
END:VEVENT
BEGIN:VEVENT
DTSTART;TZID=America/New_York:20240226T150000
DTEND;TZID=America/New_York:20240226T150000
DTSTAMP:20260424T201216
CREATED:20231009T192856Z
LAST-MODIFIED:20231009T192856Z
UID:10001459-1708959600-1708959600@imla.org
SUMMARY:Code Enforcement Working Group Call
DESCRIPTION:If you care to take part in this call\, please email cstorer@imla.org.
URL:https://imla.org/events/code-enforcement-working-group-call/2024-02-26/
CATEGORIES:IMLA Conference Call
END:VEVENT
END:VCALENDAR