BEGIN:VCALENDAR
VERSION:2.0
PRODID:-//IMLA - ECPv6.15.20//NONSGML v1.0//EN
CALSCALE:GREGORIAN
METHOD:PUBLISH
X-WR-CALNAME:IMLA
X-ORIGINAL-URL:https://imla.org
X-WR-CALDESC:Events for IMLA
REFRESH-INTERVAL;VALUE=DURATION:PT1H
X-Robots-Tag:noindex
X-PUBLISHED-TTL:PT1H
BEGIN:VTIMEZONE
TZID:America/New_York
BEGIN:DAYLIGHT
TZOFFSETFROM:-0500
TZOFFSETTO:-0400
TZNAME:EDT
DTSTART:20220313T070000
END:DAYLIGHT
BEGIN:STANDARD
TZOFFSETFROM:-0400
TZOFFSETTO:-0500
TZNAME:EST
DTSTART:20221106T060000
END:STANDARD
BEGIN:DAYLIGHT
TZOFFSETFROM:-0500
TZOFFSETTO:-0400
TZNAME:EDT
DTSTART:20230312T070000
END:DAYLIGHT
BEGIN:STANDARD
TZOFFSETFROM:-0400
TZOFFSETTO:-0500
TZNAME:EST
DTSTART:20231105T060000
END:STANDARD
BEGIN:DAYLIGHT
TZOFFSETFROM:-0500
TZOFFSETTO:-0400
TZNAME:EDT
DTSTART:20240310T070000
END:DAYLIGHT
BEGIN:STANDARD
TZOFFSETFROM:-0400
TZOFFSETTO:-0500
TZNAME:EST
DTSTART:20241103T060000
END:STANDARD
END:VTIMEZONE
BEGIN:VEVENT
DTSTART;TZID=America/New_York:20231207T140000
DTEND;TZID=America/New_York:20231207T150000
DTSTAMP:20260425T072310
CREATED:20230104T200248Z
LAST-MODIFIED:20230104T200355Z
UID:10001386-1701957600-1701961200@imla.org
SUMMARY:Homelessness Working Group Conference Call
DESCRIPTION:If you care to take part in this call\, please email cstorer@imla.org.
URL:https://imla.org/events/homelessness-working-group-conference-call-2/2023-12-07/
CATEGORIES:IMLA Conference Call
END:VEVENT
BEGIN:VEVENT
DTSTART;TZID=America/New_York:20231211T140000
DTEND;TZID=America/New_York:20231211T150000
DTSTAMP:20260425T072310
CREATED:20230504T191552Z
LAST-MODIFIED:20230504T191552Z
UID:10001441-1702303200-1702306800@imla.org
SUMMARY:Elected Attorney Meeting
DESCRIPTION:If you care to take part in this call or working group\, please email cstorer@imla.org.
URL:https://imla.org/events/elected-attorney-meeting/2023-12-11/
CATEGORIES:IMLA Conference Call
END:VEVENT
BEGIN:VEVENT
DTSTART;TZID=America/New_York:20231219T140000
DTEND;TZID=America/New_York:20231219T150000
DTSTAMP:20260425T072310
CREATED:20231023T190536Z
LAST-MODIFIED:20231023T190536Z
UID:10001473-1702994400-1702998000@imla.org
SUMMARY:Police Alternatives Meeting
DESCRIPTION:If you care to take part in this call or working group\, please email cstorer@imla.org.
URL:https://imla.org/events/police-alternatives-meeting-7-21-23-2/2023-12-19/
CATEGORIES:IMLA Conference Call
END:VEVENT
BEGIN:VEVENT
DTSTART;TZID=America/New_York:20231225T150000
DTEND;TZID=America/New_York:20231225T150000
DTSTAMP:20260425T072310
CREATED:20231009T192856Z
LAST-MODIFIED:20231009T192856Z
UID:10001457-1703516400-1703516400@imla.org
SUMMARY:Code Enforcement Working Group Call
DESCRIPTION:If you care to take part in this call\, please email cstorer@imla.org.
URL:https://imla.org/events/code-enforcement-working-group-call/2023-12-25/
CATEGORIES:IMLA Conference Call
END:VEVENT
END:VCALENDAR