BEGIN:VCALENDAR
VERSION:2.0
PRODID:-//IMLA - ECPv6.15.20//NONSGML v1.0//EN
CALSCALE:GREGORIAN
METHOD:PUBLISH
X-ORIGINAL-URL:https://imla.org
X-WR-CALDESC:Events for IMLA
REFRESH-INTERVAL;VALUE=DURATION:PT1H
X-Robots-Tag:noindex
X-PUBLISHED-TTL:PT1H
BEGIN:VTIMEZONE
TZID:America/New_York
BEGIN:DAYLIGHT
TZOFFSETFROM:-0500
TZOFFSETTO:-0400
TZNAME:EDT
DTSTART:20220313T070000
END:DAYLIGHT
BEGIN:STANDARD
TZOFFSETFROM:-0400
TZOFFSETTO:-0500
TZNAME:EST
DTSTART:20221106T060000
END:STANDARD
BEGIN:DAYLIGHT
TZOFFSETFROM:-0500
TZOFFSETTO:-0400
TZNAME:EDT
DTSTART:20230312T070000
END:DAYLIGHT
BEGIN:STANDARD
TZOFFSETFROM:-0400
TZOFFSETTO:-0500
TZNAME:EST
DTSTART:20231105T060000
END:STANDARD
BEGIN:DAYLIGHT
TZOFFSETFROM:-0500
TZOFFSETTO:-0400
TZNAME:EDT
DTSTART:20240310T070000
END:DAYLIGHT
BEGIN:STANDARD
TZOFFSETFROM:-0400
TZOFFSETTO:-0500
TZNAME:EST
DTSTART:20241103T060000
END:STANDARD
END:VTIMEZONE
BEGIN:VEVENT
DTSTART;TZID=America/New_York:20230705T150000
DTEND;TZID=America/New_York:20230705T160000
DTSTAMP:20260425T175126
CREATED:20230504T182557Z
LAST-MODIFIED:20230504T192606Z
UID:10001422-1688569200-1688572800@imla.org
SUMMARY:Counties Meeting
DESCRIPTION:If you care to take part in this call or working group\, please email cstorer@imla.org.
URL:https://imla.org/events/counties-meeting/2023-07-05/
CATEGORIES:IMLA Conference Call
END:VEVENT
BEGIN:VEVENT
DTSTART;TZID=America/New_York:20230706T140000
DTEND;TZID=America/New_York:20230706T150000
DTSTAMP:20260425T175126
CREATED:20230104T200248Z
LAST-MODIFIED:20230104T200355Z
UID:10001381-1688652000-1688655600@imla.org
SUMMARY:Homelessness Working Group Conference Call
DESCRIPTION:If you care to take part in this call\, please email cstorer@imla.org.
URL:https://imla.org/events/homelessness-working-group-conference-call-2/2023-07-06/
CATEGORIES:IMLA Conference Call
END:VEVENT
BEGIN:VEVENT
DTSTART;TZID=America/New_York:20230710T140000
DTEND;TZID=America/New_York:20230710T150000
DTSTAMP:20260425T175126
CREATED:20230504T191552Z
LAST-MODIFIED:20230504T191552Z
UID:10001436-1688997600-1689001200@imla.org
SUMMARY:Elected Attorney Meeting
DESCRIPTION:If you care to take part in this call or working group\, please email cstorer@imla.org.
URL:https://imla.org/events/elected-attorney-meeting/2023-07-10/
CATEGORIES:IMLA Conference Call
END:VEVENT
BEGIN:VEVENT
DTSTART;TZID=America/New_York:20230710T140000
DTEND;TZID=America/New_York:20230710T150000
DTSTAMP:20260425T175126
CREATED:20230504T192905Z
LAST-MODIFIED:20230504T192905Z
UID:10001446-1688997600-1689001200@imla.org
SUMMARY:New Lawyers Meeting
DESCRIPTION:If you care to take part in this call or working group\, please email cstorer@imla.org.
URL:https://imla.org/events/new-lawyers-meeting-7-10-23/
CATEGORIES:IMLA Conference Call
END:VEVENT
BEGIN:VEVENT
DTSTART;TZID=America/New_York:20230717T140000
DTEND;TZID=America/New_York:20230717T150000
DTSTAMP:20260425T175126
CREATED:20230104T200930Z
LAST-MODIFIED:20230104T201019Z
UID:10001392-1689602400-1689606000@imla.org
SUMMARY:Small/Rural Communities Working Group Call
DESCRIPTION:If you care to take part in this call\, please email cstorer@imla.org.
URL:https://imla.org/events/small-rural-communities-working-group-call-3/2023-07-17/
CATEGORIES:IMLA Conference Call
END:VEVENT
END:VCALENDAR