BEGIN:VCALENDAR
VERSION:2.0
PRODID:-//IMLA - ECPv6.15.20//NONSGML v1.0//EN
CALSCALE:GREGORIAN
METHOD:PUBLISH
X-ORIGINAL-URL:https://imla.org
X-WR-CALDESC:Events for IMLA
REFRESH-INTERVAL;VALUE=DURATION:PT1H
X-Robots-Tag:noindex
X-PUBLISHED-TTL:PT1H
BEGIN:VTIMEZONE
TZID:America/New_York
BEGIN:DAYLIGHT
TZOFFSETFROM:-0500
TZOFFSETTO:-0400
TZNAME:EDT
DTSTART:20220313T070000
END:DAYLIGHT
BEGIN:STANDARD
TZOFFSETFROM:-0400
TZOFFSETTO:-0500
TZNAME:EST
DTSTART:20221106T060000
END:STANDARD
BEGIN:DAYLIGHT
TZOFFSETFROM:-0500
TZOFFSETTO:-0400
TZNAME:EDT
DTSTART:20230312T070000
END:DAYLIGHT
BEGIN:STANDARD
TZOFFSETFROM:-0400
TZOFFSETTO:-0500
TZNAME:EST
DTSTART:20231105T060000
END:STANDARD
BEGIN:DAYLIGHT
TZOFFSETFROM:-0500
TZOFFSETTO:-0400
TZNAME:EDT
DTSTART:20240310T070000
END:DAYLIGHT
BEGIN:STANDARD
TZOFFSETFROM:-0400
TZOFFSETTO:-0500
TZNAME:EST
DTSTART:20241103T060000
END:STANDARD
END:VTIMEZONE
BEGIN:VEVENT
DTSTART;TZID=America/New_York:20230202T140000
DTEND;TZID=America/New_York:20230202T150000
DTSTAMP:20260425T075512
CREATED:20230104T200248Z
LAST-MODIFIED:20230104T200355Z
UID:10001376-1675346400-1675350000@imla.org
SUMMARY:Homelessness Working Group Conference Call
DESCRIPTION:If you care to take part in this call\, please email cstorer@imla.org.
URL:https://imla.org/events/homelessness-working-group-conference-call-2/2023-02-02/
CATEGORIES:IMLA Conference Call
END:VEVENT
BEGIN:VEVENT
DTSTART;TZID=America/New_York:20230213T140000
DTEND;TZID=America/New_York:20230213T150000
DTSTAMP:20260425T075513
CREATED:20230130T165942Z
LAST-MODIFIED:20230130T165942Z
UID:10001413-1676296800-1676300400@imla.org
SUMMARY:New Lawyers Working Group Call
DESCRIPTION:If you care to take part in this call\, please email cstorer@imla.org.
URL:https://imla.org/events/new-lawyers-working-group-call-2-13-23/
CATEGORIES:IMLA Conference Call
END:VEVENT
BEGIN:VEVENT
DTSTART;TZID=America/New_York:20230221T140000
DTEND;TZID=America/New_York:20230221T150000
DTSTAMP:20260425T075513
CREATED:20230130T170139Z
LAST-MODIFIED:20230130T170139Z
UID:10001414-1676988000-1676991600@imla.org
SUMMARY:Police Alternatives Call
DESCRIPTION:If you care to take part in this call\, please email cstorer@imla.org.
URL:https://imla.org/events/police-alternatives-call-2-21-23/
CATEGORIES:IMLA Conference Call
END:VEVENT
BEGIN:VEVENT
DTSTART;TZID=America/New_York:20230223T150000
DTEND;TZID=America/New_York:20230223T160000
DTSTAMP:20260425T075513
CREATED:20230130T170326Z
LAST-MODIFIED:20230130T172422Z
UID:10001415-1677164400-1677168000@imla.org
SUMMARY:Diversity / Equity / Inclusion Book Club Meeting
DESCRIPTION:If you care to take part in this call\, please email dshahnami@imla.org. \nThe 1619 Project: A New Origin Story by Nikole Hannah-Jones. This is a book that speaks directly to our current moment\, contextualizing the systems of race and caste within which we operate today. It reveals long-glossed-over truths around our nation’s founding and construction—and the way that the legacy of slavery did not end with emancipation\, but continues to shape contemporary American life.
URL:https://imla.org/events/diversity-equity-inclusion-book-club-meeting-2-22-23/
CATEGORIES:IMLA Conference Call
END:VEVENT
END:VCALENDAR