BEGIN:VCALENDAR
VERSION:2.0
PRODID:-//IMLA - ECPv6.15.20//NONSGML v1.0//EN
CALSCALE:GREGORIAN
METHOD:PUBLISH
X-ORIGINAL-URL:https://imla.org
X-WR-CALDESC:Events for IMLA
REFRESH-INTERVAL;VALUE=DURATION:PT1H
X-Robots-Tag:noindex
X-PUBLISHED-TTL:PT1H
BEGIN:VTIMEZONE
TZID:America/New_York
BEGIN:DAYLIGHT
TZOFFSETFROM:-0500
TZOFFSETTO:-0400
TZNAME:EDT
DTSTART:20210314T070000
END:DAYLIGHT
BEGIN:STANDARD
TZOFFSETFROM:-0400
TZOFFSETTO:-0500
TZNAME:EST
DTSTART:20211107T060000
END:STANDARD
BEGIN:DAYLIGHT
TZOFFSETFROM:-0500
TZOFFSETTO:-0400
TZNAME:EDT
DTSTART:20220313T070000
END:DAYLIGHT
BEGIN:STANDARD
TZOFFSETFROM:-0400
TZOFFSETTO:-0500
TZNAME:EST
DTSTART:20221106T060000
END:STANDARD
BEGIN:DAYLIGHT
TZOFFSETFROM:-0500
TZOFFSETTO:-0400
TZNAME:EDT
DTSTART:20230312T070000
END:DAYLIGHT
BEGIN:STANDARD
TZOFFSETFROM:-0400
TZOFFSETTO:-0500
TZNAME:EST
DTSTART:20231105T060000
END:STANDARD
END:VTIMEZONE
BEGIN:VEVENT
DTSTART;TZID=America/New_York:20220801T150000
DTEND;TZID=America/New_York:20220801T160000
DTSTAMP:20260424T173753
CREATED:20220811T171435Z
LAST-MODIFIED:20220811T171435Z
UID:10001354-1659366000-1659369600@imla.org
SUMMARY:Small/Rural Communities Working Group Call
DESCRIPTION:If you care to take part in this call\, please email cstorer@imla.org.
URL:https://imla.org/events/small-rural-communities-working-group-call/
CATEGORIES:IMLA Conference Call
END:VEVENT
BEGIN:VEVENT
DTSTART;TZID=America/New_York:20220804T150000
DTEND;TZID=America/New_York:20220804T160000
DTSTAMP:20260424T173753
CREATED:20210208T141126Z
LAST-MODIFIED:20211221T204722Z
UID:10001250-1659625200-1659628800@imla.org
SUMMARY:Homelessness Working Group Conference Call
DESCRIPTION:If you care to take part in this call\, please email cstorer@imla.org.
URL:https://imla.org/events/homelessness-working-group-conference-call/2022-08-04/
CATEGORIES:IMLA Conference Call
END:VEVENT
BEGIN:VEVENT
DTSTART;TZID=America/New_York:20220817T150000
DTEND;TZID=America/New_York:20220817T160000
DTSTAMP:20260424T173753
CREATED:20220811T171309Z
LAST-MODIFIED:20220811T171309Z
UID:10001353-1660748400-1660752000@imla.org
SUMMARY:Diversity/Equity/Inclusion Book Club Meeting
DESCRIPTION:If you care to take part in this call\, please email cstorer@imla.org. \nJoin us August 17th from 3-4 pm ET to discuss Invisible Child: Poverty\, Survival & Hope in an American City by Andrea Elliott.  It is BYOB—bring your own book\, booze\, or both.   \nSynopsis: In Invisible Child\, Pulitzer Prize winner Andrea Elliott follows eight dramatic years in the life of Dasani\, a girl whose imagination is as soaring as the skyscrapers near her Brooklyn shelter. In this sweeping narrative\, Elliott weaves the story of Dasani’s childhood with the history of her ancestors\, tracing their passage from slavery to the Great Migration north. As Dasani comes of age\, New York City’s homeless crisis has exploded\, deepening the chasm between rich and poor. She must guide her siblings through a world riddled by hunger\, violence\, racism\, drug addiction\, and the threat of foster care. Out on the street\, Dasani becomes a fierce fighter “to protect those who I love.” When she finally escapes city life to enroll in a boarding school\, she faces an impossible question: What if leaving poverty means abandoning your family\, and yourself?
URL:https://imla.org/events/diversity-equity-inclusion-book-club-meeting-8-17-22/
CATEGORIES:IMLA Conference Call
END:VEVENT
END:VCALENDAR