BEGIN:VCALENDAR
VERSION:2.0
PRODID:-//IMLA - ECPv6.15.20//NONSGML v1.0//EN
CALSCALE:GREGORIAN
METHOD:PUBLISH
X-WR-CALNAME:IMLA
X-ORIGINAL-URL:https://imla.org
X-WR-CALDESC:Events for IMLA
REFRESH-INTERVAL;VALUE=DURATION:PT1H
X-Robots-Tag:noindex
X-PUBLISHED-TTL:PT1H
BEGIN:VTIMEZONE
TZID:America/New_York
BEGIN:DAYLIGHT
TZOFFSETFROM:-0500
TZOFFSETTO:-0400
TZNAME:EDT
DTSTART:20210314T070000
END:DAYLIGHT
BEGIN:STANDARD
TZOFFSETFROM:-0400
TZOFFSETTO:-0500
TZNAME:EST
DTSTART:20211107T060000
END:STANDARD
BEGIN:DAYLIGHT
TZOFFSETFROM:-0500
TZOFFSETTO:-0400
TZNAME:EDT
DTSTART:20220313T070000
END:DAYLIGHT
BEGIN:STANDARD
TZOFFSETFROM:-0400
TZOFFSETTO:-0500
TZNAME:EST
DTSTART:20221106T060000
END:STANDARD
BEGIN:DAYLIGHT
TZOFFSETFROM:-0500
TZOFFSETTO:-0400
TZNAME:EDT
DTSTART:20230312T070000
END:DAYLIGHT
BEGIN:STANDARD
TZOFFSETFROM:-0400
TZOFFSETTO:-0500
TZNAME:EST
DTSTART:20231105T060000
END:STANDARD
END:VTIMEZONE
BEGIN:VEVENT
DTSTART;TZID=America/New_York:20220706T150000
DTEND;TZID=America/New_York:20220706T160000
DTSTAMP:20260424T140143
CREATED:20220623T153215Z
LAST-MODIFIED:20220623T153215Z
UID:10001340-1657119600-1657123200@imla.org
SUMMARY:County Working Group Call
DESCRIPTION:If you care to take part in this call\, please email cstorer@imla.org.
URL:https://imla.org/events/county-working-group-call-2/
CATEGORIES:IMLA Conference Call
END:VEVENT
BEGIN:VEVENT
DTSTART;TZID=America/New_York:20220707T150000
DTEND;TZID=America/New_York:20220707T160000
DTSTAMP:20260424T140143
CREATED:20210208T141126Z
LAST-MODIFIED:20211221T204722Z
UID:10001249-1657206000-1657209600@imla.org
SUMMARY:Homelessness Working Group Conference Call
DESCRIPTION:If you care to take part in this call\, please email cstorer@imla.org.
URL:https://imla.org/events/homelessness-working-group-conference-call/2022-07-07/
CATEGORIES:IMLA Conference Call
END:VEVENT
BEGIN:VEVENT
DTSTART;TZID=America/New_York:20220711T130000
DTEND;TZID=America/New_York:20220711T140000
DTSTAMP:20260424T140143
CREATED:20220623T154038Z
LAST-MODIFIED:20220623T154038Z
UID:10001342-1657544400-1657548000@imla.org
SUMMARY:Young Lawyers Meeting
DESCRIPTION:If you care to take part in this call\, please email cstorer@imla.org.
URL:https://imla.org/events/young-lawyers-meeting/
CATEGORIES:IMLA Conference Call
END:VEVENT
BEGIN:VEVENT
DTSTART;TZID=America/New_York:20220713T150000
DTEND;TZID=America/New_York:20220713T160000
DTSTAMP:20260424T140143
CREATED:20220623T154251Z
LAST-MODIFIED:20220623T154251Z
UID:10001343-1657724400-1657728000@imla.org
SUMMARY:Diversity/Equity/Inclusion Book Club Meeting
DESCRIPTION:If you care to take part in this call\, please email cstorer@imla.org. \nJoin us July 13th from 3-4 pm ET to discuss Laboratory of Deficiency: Sterilization and Confinement in California\, 1900-1950s by Natalie Lira! \nPacific Colony\, a Southern California institution established to care for the “feebleminded\,” justified the incarceration\, sterilization\, and forced mutilation of some of the most vulnerable members of society from the 1920s through the 1950s. Institutional records document the convergence of ableism and racism in Pacific Colony. Analyzing a vast archive\, Natalie Lira reveals how political concerns over Mexican immigration—particularly ideas about the low intelligence\, deviant sexuality\, and inherent criminality of the “Mexican race”—shaped decisions regarding the treatment and reproductive future of Mexican-origin patients.
URL:https://imla.org/events/diversity-equity-inclusion-book-club-meeting-3/
CATEGORIES:IMLA Conference Call
END:VEVENT
BEGIN:VEVENT
DTSTART;TZID=America/New_York:20220718T140000
DTEND;TZID=America/New_York:20220718T150000
DTSTAMP:20260424T140143
CREATED:20220623T154521Z
LAST-MODIFIED:20220623T154521Z
UID:10001344-1658152800-1658156400@imla.org
SUMMARY:Small/Rural Communities Meeting
DESCRIPTION:If you care to take part in this call\, please email cstorer@imla.org.
URL:https://imla.org/events/small-rural-communities-meeting-2/
CATEGORIES:IMLA Conference Call
END:VEVENT
BEGIN:VEVENT
DTSTART;TZID=America/New_York:20220727T150000
DTEND;TZID=America/New_York:20220727T160000
DTSTAMP:20260424T140143
CREATED:20220623T154650Z
LAST-MODIFIED:20220623T154650Z
UID:10001345-1658934000-1658937600@imla.org
SUMMARY:Climate Change Meeting
DESCRIPTION:If you care to take part in this call\, please email cstorer@imla.org.
URL:https://imla.org/events/climate-change-meeting/
CATEGORIES:IMLA Conference Call
END:VEVENT
END:VCALENDAR